BEGIN:VCALENDAR
VERSION:2.0
PRODID:-//wp-events-plugin.com//7.2.3.1//EN
TZID:America/New_York
X-WR-TIMEZONE:America/New_York
BEGIN:VEVENT
UID:201@townofmendonny.gov
DTSTART;TZID=America/New_York:20231214T190000
DTEND;TZID=America/New_York:20231214T210000
DTSTAMP:20231117T172330Z
URL:https://townofmendonny.gov/events/zoning-board-of-appeals-meeting-2023
 -12-14/
SUMMARY:Zoning Board of Appeals meeting
DESCRIPTION:ZONING BOARD OF APPEALS\nFOR THURSDAY\, DECEMBER 14\, 2023\nMEN
 DON TOWN HALL\n16 WEST MAIN STREET\nHONEOYE FALLS\, NY 14472 7:00 PM\nApp
 roval of the November 9\, 2023 minutes.\n\nSCHELL AREA VARIANCE PUBLIC HEA
 RING\nAn area variance application by Brian Schell\, 466 Parrish Road\, Ho
 neoye Falls\, consisting of 5\nacres\, for a carport\, with a side setback
  of approximately 8 feet\, whereas code requires a 20-foot\nside setback a
 nd therefore requires an area variance. Zoned RA-1. Tax account no. 231.01
 -1-1.3.\n\nMcCABE AREA VARIANCE PUBLIC HEARING\nAn area variance applicati
 on by Beth McCabe\, 3897 Rush Mendon Road\, Mendon\, NY\,\nconsisting of .
 6 acres\, for a two-unit dwelling\, whereas code requires the minimum lot 
 area shall\nbe 5 acres for apartment houses/multiple dwellings and therefo
 re requires an area variance.\nZoned RS-30. Tax account no. 216.11-1-6.\n\
 nPublic Comment\nGeneral Discussion\nPlease refer to TownofMendon.org “C
 ommunity” tab for information about attending the meeting via\nZoom or t
 o watch it on YouTube.
CATEGORIES:Zoning Board Meeting
LOCATION:Mendon Town Hall\, 16 West Main Street\, Honeoye Falls\, New York\
 , 14472\, United States
X-APPLE-STRUCTURED-LOCATION;VALUE=URI;X-ADDRESS=16 West Main Street\, Honeo
 ye Falls\, New York\, 14472\, United States;X-APPLE-RADIUS=100;X-TITLE=Men
 don Town Hall:geo:0,0
END:VEVENT
BEGIN:VTIMEZONE
TZID:America/New_York
X-LIC-LOCATION:America/New_York
BEGIN:STANDARD
DTSTART:20231105T010000
TZOFFSETFROM:-0400
TZOFFSETTO:-0500
TZNAME:EST
END:STANDARD
END:VTIMEZONE
END:VCALENDAR