BEGIN:VCALENDAR
VERSION:2.0
PRODID:-//wp-events-plugin.com//7.2.3.1//EN
TZID:America/New_York
X-WR-TIMEZONE:America/New_York
BEGIN:VEVENT
UID:200@townofmendonny.gov
DTSTART;TZID=America/New_York:20231109T190000
DTEND;TZID=America/New_York:20231109T210000
DTSTAMP:20231109T195307Z
URL:https://townofmendonny.gov/events/zoning-board-of-appeals-meeting-2023
 -11-09/
SUMMARY:Zoning Board of Appeals meeting
DESCRIPTION:Approval of October 26\, 2023 minutes.\n\nSALVISKI AREA VARIANC
 E PUBLIC HEARING\nAn area variance application by James Salviski\, 342 Smi
 th Road\, Pittsford\, NY\, consisting of 10\nacres\, for a six-foot fence 
 in the front yard\, whereas code requires no fence in the front yard in a\
 nresidential district shall exceed four feet in height\, therefore require
 s an area variance. Zoned\nRA-5. Tax account no. 205.01-1-9.31.\n\nPublic 
 Comment\nGeneral Discussion\n\nPlease refer to TownofMendon.org “Communi
 ty” tab for information to attend the meeting via\nZoom or to watch it o
 n YouTube.
CATEGORIES:Zoning Board Meeting
LOCATION:Mendon Town Hall\, 16 West Main Street\, Honeoye Falls\, New York\
 , 14472\, United States
X-APPLE-STRUCTURED-LOCATION;VALUE=URI;X-ADDRESS=16 West Main Street\, Honeo
 ye Falls\, New York\, 14472\, United States;X-APPLE-RADIUS=100;X-TITLE=Men
 don Town Hall:geo:0,0
END:VEVENT
BEGIN:VTIMEZONE
TZID:America/New_York
X-LIC-LOCATION:America/New_York
BEGIN:STANDARD
DTSTART:20231105T010000
TZOFFSETFROM:-0400
TZOFFSETTO:-0500
TZNAME:EST
END:STANDARD
END:VTIMEZONE
END:VCALENDAR