BEGIN:VCALENDAR
VERSION:2.0
PRODID:-//wp-events-plugin.com//7.2.3.1//EN
TZID:America/New_York
X-WR-TIMEZONE:America/New_York
BEGIN:VEVENT
UID:190@townofmendonny.gov
DTSTART;TZID=America/New_York:20230309T190000
DTEND;TZID=America/New_York:20230309T210000
DTSTAMP:20230307T164024Z
URL:https://townofmendonny.gov/events/zoning-board-of-appeals-meeting-2023
 -01-12/
SUMMARY:Zoning Board of Appeals meeting
DESCRIPTION:Approval of the February 23\, 2023 minutes.\n\nKOELSCH AREA VAR
 IANCE PUBLIC HEARING\nAn area variance application by Matt Koelsch and Eri
 n Denney-Koelsch\, 1065 Cheese Factory\nRoad\, Honeoye Falls\, consisting 
 of 1.57 acres to build a 510 square-foot addition with a front\nsetback of
  14.4 feet\, whereas code requires a 60-foot front setback\, and therefore
  requires an area\nvariance. Zoned RA-1. Tax account no. 223.02-1-11. The 
 Zoning Board of Appeals will at said\ntime and place hear all persons in s
 upport of the application or in objection thereto. Persons may\nappear in 
 person or by an agent.\n\nPlease refer to TownofMendon.org “Community”
  tab for information to attend the meeting via\nZoom or to watch it on You
 Tube.
CATEGORIES:Zoning Board Meeting
LOCATION:Mendon Town Hall\, 16 West Main Street\, Honeoye Falls\, New York\
 , 14472\, United States
X-APPLE-STRUCTURED-LOCATION;VALUE=URI;X-ADDRESS=16 West Main Street\, Honeo
 ye Falls\, New York\, 14472\, United States;X-APPLE-RADIUS=100;X-TITLE=Men
 don Town Hall:geo:0,0
END:VEVENT
BEGIN:VTIMEZONE
TZID:America/New_York
X-LIC-LOCATION:America/New_York
BEGIN:STANDARD
DTSTART:20221106T010000
TZOFFSETFROM:-0400
TZOFFSETTO:-0500
TZNAME:EST
END:STANDARD
END:VTIMEZONE
END:VCALENDAR