BEGIN:VCALENDAR
VERSION:2.0
PRODID:-//wp-events-plugin.com//7.2.3.1//EN
TZID:America/New_York
X-WR-TIMEZONE:America/New_York
BEGIN:VEVENT
UID:1165@townofmendonny.gov
DTSTART;TZID=America/New_York:20250327T190000
DTEND;TZID=America/New_York:20250327T210000
DTSTAMP:20250313T134459Z
URL:https://townofmendonny.gov/events/zoning-board-meeting-3/
SUMMARY:Zoning Board Meeting
DESCRIPTION:ZONING BOARD OF APPEALS\nFOR THURSDAY\, MARCH 27\, 2025\nMENDON
  TOWN HALL\n16 WEST MAIN STREET\nHONEOYE FALLS\, NY 14472 7:00 PM\n\nAppr
 oval of the February 27\, 2025 minutes.\n\nKOELSCH AREA VARIANCE\nAn area 
 variance application by Matt Koelsch\, 1065 Cheese Factory Road\, Honeoye 
 Falls\, NY\,\nconsisting of 1.57 acres\, requesting relief from Section 26
 0-106\, to construct a two-story pole\nbarn with a 33’8” front set bac
 k\, whereas code requires a minimum of 60’ front setback and\ntherefore 
 requires an area variance. Zoned RA-1. Tax account no. 223.02-1-11.\n\nCAW
 LEY AREA VARIANCE\nAn area variance application by Joshua Cawley\, 1100 Pi
 ttsford Mendon Center Road\, Honeoye\nFalls\, NY\, consisting of 10 +/- ac
 res\, requesting relief from Section 260-8 (D)\, to construct a\ndriveway 
 to a single-family dwelling on property located off Pittsford Mendon Cente
 r Road with\na 61’ lot width\, whereas code requires a minimum of 100’
  lot width at the road right of way and\ntherefore requires an area varian
 ce. Zoned RA-5. Tax account no. 204.02-1-38.\n\nPublic Comment\n\nGeneral 
 Discussion\n\nUpcoming Meeting Information:\n\nPlease refer to TownofMendo
 n.org “Community” tab for information to attend the meeting via\nZoom 
 or to watch it on YouTube.
CATEGORIES:Zoning Board Meeting
LOCATION:Mendon Town Hall\, 16 West Main Street\, Honeoye Falls\, New York\
 , 14472\, United States
X-APPLE-STRUCTURED-LOCATION;VALUE=URI;X-ADDRESS=16 West Main Street\, Honeo
 ye Falls\, New York\, 14472\, United States;X-APPLE-RADIUS=100;X-TITLE=Men
 don Town Hall:geo:0,0
END:VEVENT
BEGIN:VTIMEZONE
TZID:America/New_York
X-LIC-LOCATION:America/New_York
BEGIN:DAYLIGHT
DTSTART:20250309T030000
TZOFFSETFROM:-0500
TZOFFSETTO:-0400
TZNAME:EDT
END:DAYLIGHT
END:VTIMEZONE
END:VCALENDAR