BEGIN:VCALENDAR
VERSION:2.0
PRODID:-//wp-events-plugin.com//7.2.3.1//EN
TZID:America/New_York
X-WR-TIMEZONE:America/New_York
BEGIN:VEVENT
UID:1098@townofmendonny.gov
DTSTART;TZID=America/New_York:20241114T190000
DTEND;TZID=America/New_York:20241114T210000
DTSTAMP:20241114T171828Z
URL:https://townofmendonny.gov/events/zoning-board-meeting-2024-11-14/
SUMMARY:Zoning Board Meeting
DESCRIPTION:ZONING BOARD OF APPEALS\nFOR THURSDAY\, NOVEMBER 14 TH \, 2024\
 nMENDON TOWN HALL\n16 WEST MAIN STREET\nHONEOYE FALLS\, NY 14472 7:00 PM\
 nApproval of the July 25\, 2024 minutes.\n\nBOLGER AREA VARIANCE\nAn area 
 variance application by Kevin and Meaghan Bolger\, 5 Governors Circle\, Me
 ndon\, NY\,\nconsisting of .55 acres\, requesting 2’ of relief to build 
 a porch and attached deck\, with a side\nsetback of 18’9”\, whereas co
 de requires a 20-foot side setback and therefore requires an area\nvarianc
 e. Zoned PUD. Tax account no. 216.07-2-034.\n\nMORAVEC AREA VARIANCE\nAn a
 rea variance application by Bryan &amp\;amp\; Sarah Moravec\, 2 Carolina D
 rive\, Pittsford\, NY 14534\nfor property located at 49 Old Stable Way\, M
 endon\, NY\, consisting of 6.89 acres\, requesting\n8’5” of relief to 
 construct a Single-Family Dwelling\, with an overall height of 43’5”\,
  whereas\ncode requires a 35’ height and therefore requires an area vari
 ance. Zoned RA-1. Tax account\nno. 215.04-1-56.\n\nPublic Comment\n\nGener
 al Discussion\n\nUpcoming Meeting Information:\nNovember 28\, 2024 – Can
 celed\, unless a rehearing is needed.\nDecember 12\, 2024 – Boldt Area V
 ariance\n\nPlease refer to TownofMendon.org “Community” tab for inform
 ation to attend the meeting via\nZoom or to watch it on YouTube.
CATEGORIES:Zoning Board Meeting
LOCATION:Mendon Town Hall\, 16 West Main Street\, Honeoye Falls\, New York\
 , 14472\, United States
X-APPLE-STRUCTURED-LOCATION;VALUE=URI;X-ADDRESS=16 West Main Street\, Honeo
 ye Falls\, New York\, 14472\, United States;X-APPLE-RADIUS=100;X-TITLE=Men
 don Town Hall:geo:0,0
END:VEVENT
BEGIN:VTIMEZONE
TZID:America/New_York
X-LIC-LOCATION:America/New_York
BEGIN:STANDARD
DTSTART:20241103T010000
TZOFFSETFROM:-0400
TZOFFSETTO:-0500
TZNAME:EST
END:STANDARD
END:VTIMEZONE
END:VCALENDAR