BEGIN:VCALENDAR
VERSION:2.0
PRODID:-//wp-events-plugin.com//7.2.3.1//EN
TZID:America/New_York
X-WR-TIMEZONE:America/New_York
BEGIN:VEVENT
UID:36@townofmendonny.gov
DTSTART;TZID=America/New_York:20220926T190000
DTEND;TZID=America/New_York:20220926T210000
DTSTAMP:20220923T164945Z
URL:https://townofmendonny.gov/events/town-board-september-26-2022/
SUMMARY:Town Board - September 26\, 2022
DESCRIPTION:REGULAR MEETING\n\n1. Call to Order\n2. Pledge of Allegiance\n3
 . Agenda\n4. Public Comment\n5. Communications\n6. Planning Board Member- 
 Training Approval\n7. Finance Director- Training Event\n8. Mendon Youth Ce
 nter- Reopening\n9. Military Memorial- Dedication of Name\n10. 2023 Budget
  Discussion\n11. Preliminary Budget 2023\n12. Schedule Public Hearing for 
 the 2023 Budget\n13. Veterans Day Lunch\n14. Schedule Public Hearing for C
 apital Improvement Plan\n15. Schedule Special Meeting- Workshop Regarding 
 Short Term Rentals\n16. Public Comment\n17. Adjournment\n\ninformational p
 acket
CATEGORIES:Town Board Meeting
LOCATION:Mendon Community Center\, 167 North Main St\, Honeoye Falls\, New 
 York\, 14472\, United States
X-APPLE-STRUCTURED-LOCATION;VALUE=URI;X-ADDRESS=167 North Main St\, Honeoye
  Falls\, New York\, 14472\, United States;X-APPLE-RADIUS=100;X-TITLE=Mendo
 n Community Center:geo:0,0
END:VEVENT
BEGIN:VTIMEZONE
TZID:America/New_York
X-LIC-LOCATION:America/New_York
BEGIN:DAYLIGHT
DTSTART:20220313T030000
TZOFFSETFROM:-0500
TZOFFSETTO:-0400
TZNAME:EDT
END:DAYLIGHT
END:VTIMEZONE
END:VCALENDAR