BEGIN:VCALENDAR
VERSION:2.0
PRODID:-//wp-events-plugin.com//7.2.3.1//EN
TZID:America/New_York
X-WR-TIMEZONE:America/New_York
BEGIN:VEVENT
UID:35@townofmendonny.gov
DTSTART;TZID=America/New_York:20220912T190000
DTEND;TZID=America/New_York:20220912T210000
DTSTAMP:20220909T184259Z
URL:https://townofmendonny.gov/events/town-board-september-12-2022/
SUMMARY:Town Board - September 12\, 2022
DESCRIPTION:&nbsp\;\n\nREGULAR MEETING\n\n 	Call to Order\n 	Pledge of Alle
 giance\n 	Agenda\n 	Public Comment\n 	Communications\n 	Supervisor's Month
 ly Report\n 	Town Clerk's Monthly Report\n 	Minutes\n 	Budget Transfers/Ad
 justments\n 	Abstract of Audited Vouchers\n 	2023 Tentative Budget – Pre
 sentation\n 	2022 NYSAA Fall Conference Attendance\n 	2022 AOT- Planning a
 nd Zoning School Attendance\n 	Youth Center - Discussion\n 	Recycle/Rabies
  Event - Discussion\n 	Refund to Applicant\n 	Public Comment\n 	Adjournmen
 t\n\nSeptember 12 informational packet
CATEGORIES:Town Board Meeting
LOCATION:Mendon Community Center\, 167 North Main St\, Honeoye Falls\, New 
 York\, 14472\, United States
X-APPLE-STRUCTURED-LOCATION;VALUE=URI;X-ADDRESS=167 North Main St\, Honeoye
  Falls\, New York\, 14472\, United States;X-APPLE-RADIUS=100;X-TITLE=Mendo
 n Community Center:geo:0,0
END:VEVENT
BEGIN:VTIMEZONE
TZID:America/New_York
X-LIC-LOCATION:America/New_York
BEGIN:DAYLIGHT
DTSTART:20220313T030000
TZOFFSETFROM:-0500
TZOFFSETTO:-0400
TZNAME:EDT
END:DAYLIGHT
END:VTIMEZONE
END:VCALENDAR