BEGIN:VCALENDAR
VERSION:2.0
PRODID:-//wp-events-plugin.com//7.2.3.1//EN
TZID:America/New_York
X-WR-TIMEZONE:America/New_York
BEGIN:VEVENT
UID:173@townofmendonny.gov
DTSTART;TZID=America/New_York:20221228T190000
DTEND;TZID=America/New_York:20221228T210000
DTSTAMP:20221228T141422Z
URL:https://townofmendonny.gov/events/town-board-meeting/
SUMMARY:Town Board Meeting
DESCRIPTION:REGULAR MEETING\n\n&nbsp\;\n\n 	Call to Order\n 	Pledge of Alle
 giance\n 	Agenda\n 	Public Comment\n 	Budget Transfers\n 	Vouchers\n 	Join
 t Municipality Sanitary Sewer Easement\n 	Request For Proposals (2) Furnac
 e Replacements\n 	Mendon Highway Generator Repair\n 	Public Comment\n 	Adj
 ournment\n\nInformational Packet
CATEGORIES:Town Board Meeting
LOCATION:Mendon Community Center\, 167 North Main St\, Honeoye Falls\, New 
 York\, 14472\, United States
X-APPLE-STRUCTURED-LOCATION;VALUE=URI;X-ADDRESS=167 North Main St\, Honeoye
  Falls\, New York\, 14472\, United States;X-APPLE-RADIUS=100;X-TITLE=Mendo
 n Community Center:geo:0,0
END:VEVENT
BEGIN:VTIMEZONE
TZID:America/New_York
X-LIC-LOCATION:America/New_York
BEGIN:STANDARD
DTSTART:20221106T010000
TZOFFSETFROM:-0400
TZOFFSETTO:-0500
TZNAME:EST
END:STANDARD
END:VTIMEZONE
END:VCALENDAR