BEGIN:VCALENDAR
VERSION:2.0
PRODID:-//wp-events-plugin.com//7.2.3.1//EN
TZID:America/New_York
X-WR-TIMEZONE:America/New_York
BEGIN:VEVENT
UID:176@townofmendonny.gov
DTSTART;TZID=America/New_York:20230102T190000
DTEND;TZID=America/New_York:20230102T210000
DTSTAMP:20230102T194909Z
URL:https://townofmendonny.gov/events/town-board-meeting-organizational-me
 eting-january-2-2023/
SUMMARY:Town Board Meeting - Organizational Meeting - January 2\, 2023
DESCRIPTION:Town Board Agenda - Tentative\nMonday\, January 2\, 2023 - 7:00
 PM\nMendon Town Hall\n16 West Main Street\, Honeoye Falls\, NY\nORGANIZATI
 ONAL MEETING \n\n1. Call to Order\n\n2. Pledge of Allegiance\n\n3. Agenda
 \n\n4. Public Comment\n\n5. Delegation of Administrative Duties to The Sup
 ervisor\n\n6. Position Appointments - Part Time\n\n7. Position Retention\n
 \n8. Deputy Town Clerk-Part Time - Position Retention and Appointment\n\n9
 . Highway Department - Position Retentions and Appointments\n\n10. Zoning 
 Board of Appeals Attorney - Position Retention and Appointment\n\n11. Plan
 ning Board Attorney - Position Retention and Appointment\n\n12. Deputy Tow
 n Attorney - Position Retention and Appointment\n\n13. Justice Court- Temp
 orary Assignment of Justices\n\n14. Liaisons\n\n15. Town Board Meetings Sc
 hedule\n\n16. Standard Workday for Elected and Appointed Officials\n\n17. 
 2023 Holiday Schedules\n\n18. Town Hall Operating Hours\n\n19. Policy and 
 Procedures Manual\n\n20. Fund Balance Policy\n\n21. Emergency Preparedness
  (Disaster) Plan\n\n22. Official Town Map\n\n23. Official Newspaper\n\n24.
  Emergency Response - Highway Department\n\n25. Mendon Fire Hall - Ice Con
 trol\n\n26. Boards\, Committees\, Commissions - Advertise for Meetings\n\n
 27. Official Undertakings\n\n28. Salaries - Elected/Appointed/Hourly Wages
 \n\n29. Personnel Policy - Variable Amounts Associated with Policies\n\n30
 . Payroll Schedule\n\n31. Mileage Allowance\n\n32. Annual Report of Superv
 isor\n\n33. Annual Accounting - Town Board Committee\n\n34. Official Banks
 \n\n35. Payments Before Audit\n\n36. Review of Monthly Vouchers\n\n37. Pet
 ty Cash Funds\n\n38. Fee Schedule\n\n39. Environmental Conservation Board\
 n\n40. Historic Preservation Commission\n\n41. Library Board of Trustees\n
 \n42. Planning Board\n\n43. Zoning Board of Appeals\n\n44. Records Managem
 ent Advisory Board\n\n45. Engineering/Planning Services Agreement\n\n46. H
 ighway Department Agreements\n\n47. Town Hall Agreements\n\n48. Community 
 Center Agreements\n\n49. 22 North Main Street Agreement\n\n50. Village of 
 Honeoye Falls Agreements\n\n51. Honeoye Falls-Lima Central School District
  Agreements\n\n52. Monroe County Agreements\n\n53. Community Organization 
 Agreements\n\n54. Use of Town Meeting Rooms\n\n55. Communications\n\n56. A
 pproval of Minutes\n\n57. Public Comment\n\n58. Adjournment\n\nInformation
 al Packet Part 1\n\nInformational Packet Part 2
CATEGORIES:Town Board Meeting
LOCATION:Mendon Town Hall\, 16 West Main Street\, Honeoye Falls\, New York\
 , 14472\, United States
X-APPLE-STRUCTURED-LOCATION;VALUE=URI;X-ADDRESS=16 West Main Street\, Honeo
 ye Falls\, New York\, 14472\, United States;X-APPLE-RADIUS=100;X-TITLE=Men
 don Town Hall:geo:0,0
END:VEVENT
BEGIN:VTIMEZONE
TZID:America/New_York
X-LIC-LOCATION:America/New_York
BEGIN:STANDARD
DTSTART:20221106T010000
TZOFFSETFROM:-0400
TZOFFSETTO:-0500
TZNAME:EST
END:STANDARD
END:VTIMEZONE
END:VCALENDAR