BEGIN:VCALENDAR
VERSION:2.0
PRODID:-//wp-events-plugin.com//7.2.3.1//EN
TZID:America/New_York
X-WR-TIMEZONE:America/New_York
BEGIN:VEVENT
UID:1086@townofmendonny.gov
DTSTART;TZID=America/New_York:20240129T190000
DTEND;TZID=America/New_York:20240129T200000
DTSTAMP:20250304T234349Z
URL:https://townofmendonny.gov/events/town-board-meeting-7/
SUMMARY:Town Board Meeting
DESCRIPTION:TOWN OF MENDON\nTown Board Agenda – Tentative\nMonday\, Janua
 ry 29\, 2024 – 7:00PM\nMendon Town Hall\n\n16 West Main Street\, Honeoye
  Falls\, NY\nREGULAR MEETING\n\n1. Call to Order\n2. Pledge of Allegiance\
 n3. Agenda\n4. Public Comment\n5. Communications\n6. Supervisor’s Monthl
 y Report\n7. Town Clerk's Monthly Report\n8. Minutes\n9. Budget Adjustment
 s\n10. Abstract of Audited Vouchers\n11. Zoning Board of Appeals – Appoi
 ntment\n12. Environmental Conservation Board – Appointment\n13. Deputy T
 own Historian – Appointment\n14. Architectural Services Contract – Mee
 han Architecture\n15. Mendon Green – Letter of Credit Reduction and Main
 tenance Bond Term\n16. Hamlet Planters – Purchase\n17. Highway Departmen
 t Purchases – Snowplow Parts\n18. Personnel Policy Amendment – Discuss
 ion\n19. Highway Department Hiring – Discussion\n20. Public Comment\n21.
  Adjournment\n\nSupporting Documents:\n\nAbstract Cover Sheet and Library\
 n\nBudget Adjustments \n\n\n\nDeputy Historian Carosa\n\nEarthPlanter Quot
 e #(31093) - January 18\, 2024\n\n\n\n\n\n\nECB Clark\n\n\ngeneral_voucher
 s_January 2024\n\n\n\n\n\n\nHighway Dept requests\n\n\n\n\nHighway Departm
 ent Purchase\n\n\n\n\n\nMendon Commuity Center Meehan\n\n\n\n\nMRB Letter 
 1-25-24 - Mendon Green LOC\nSupervisors Report December 2023\n\n\n\n\n\n\n
 \n\n\n\n\n\n\nTown Board Special Meeting minutes\n\n\nTown Board Organizat
 ional Meeting\n\n\n\nTown Clerks Monthly Report December 2023\n\n\n\n\n\n\
 n\n\n\n\n\n\n\n\n\n\n\n\n\n\n\n\n\n\n\n\n\n\n\n\n\n\n\n\n\n\n\n\n\n\n\n\n\
 n\n\n\n\n\n\n\n\n\n\n\n\n\n\n\n\n\n\n\n\n\n\n\n\n\n\n\n\n\n\n\n\n\n\n\n\n\
 n\n\n\n\n\n\n\n\n\n\n\n\n\n\n\n\n\n\n\n\n\n\n\n\n\n\n\n\n\n\n\n\n\n\n\n\n\
 n\n\n\n\n\n\n\n\n\n\n\n\n\n\n\n\n\n\n\n\n\n\n\n\n\n\n\n\n\n\n\n\n\n\n\n\n\
 n\n\n\n\n\n\n\n\n\n\n\n\n\n\n\n\n\n\n\n\n\n\n\n\n\n\n\n\n\n\n\n\n\n\n\n\n\
 n\n\n\n\n\n\n\n\n\n\n\n\n\n\n\n\n\n\n\n\n\n\n\n\n\n\n\n\n\n\n\n\n\n\n\n\n\
 n\n\n\n\n\n\n\n
CATEGORIES:Town Board Meeting
LOCATION:Mendon Town Hall\, 16 West Main Street\, Honeoye Falls\, New York\
 , 14472\, United States
X-APPLE-STRUCTURED-LOCATION;VALUE=URI;X-ADDRESS=16 West Main Street\, Honeo
 ye Falls\, New York\, 14472\, United States;X-APPLE-RADIUS=100;X-TITLE=Men
 don Town Hall:geo:0,0
END:VEVENT
BEGIN:VTIMEZONE
TZID:America/New_York
X-LIC-LOCATION:America/New_York
BEGIN:STANDARD
DTSTART:20231105T010000
TZOFFSETFROM:-0400
TZOFFSETTO:-0500
TZNAME:EST
END:STANDARD
END:VTIMEZONE
END:VCALENDAR