BEGIN:VCALENDAR
VERSION:2.0
PRODID:-//wp-events-plugin.com//7.2.3.1//EN
TZID:America/New_York
X-WR-TIMEZONE:America/New_York
BEGIN:VEVENT
UID:637@townofmendonny.gov
DTSTART;TZID=America/New_York:20231113T190000
DTEND;TZID=America/New_York:20231113T200000
DTSTAMP:20231113T140216Z
URL:https://townofmendonny.gov/events/town-board-meeting-6/
SUMMARY:Town Board Meeting
DESCRIPTION:TOWN OF MENDON\nTown Board Agenda – Tentative\nMonday\, Novem
 ber 13\, 2023 – 7:00PM\n16 West Main Street\nHoneoye Falls\, NY 14472\n\
 n\n 	Call to Order\n 	Pledge of Allegiance\n 	Agenda\n 	Public Comment\n 	
 Communications\n 	Supervisor’s Monthly Report\n 	Town Clerk's Monthly Re
 port\n 	Minutes\n 	Budget Transfers\n 	Abstract of Audited Vouchers\n 	Pub
 lic Hearing- Fire Protection Contract\n 	Resolution to Accept Fire Protect
 ion Contract\n 	Public Hearing- 2024 Preliminary Budget\n 	Public Hearing-
  2024 Capital Improvement Plan\n 	Resolution to Move the 2024 Budget from 
 Preliminary to Final\n 	Resolution to Accept the 2024 Capital Improvement 
 Plan\n 	2024 Summer Recreation Contract\n 	Mendon Youth Center- Behavior G
 uidelines and Policies\n 	2024 Holiday Schedule- Town Hall\n 	2024 Holiday
  Schedule- Highway Dept.\n 	Request For Proposals- Engineering\n 	Splash P
 ark Payment- Whitney East\n 	Purchase of Wireless Diagnostic Scan Tool\n 	
 Public Comment\n 	Adjournment\n\nSupporting Docs - November 13\, 2023\n\nC
 ORRECTION - Highway Dept Purchasing - Diagnostic Scan Tool - 2023
CATEGORIES:Town Board Meeting
LOCATION:Mendon Town Hall\, 16 West Main Street\, Honeoye Falls\, New York\
 , 14472\, United States
X-APPLE-STRUCTURED-LOCATION;VALUE=URI;X-ADDRESS=16 West Main Street\, Honeo
 ye Falls\, New York\, 14472\, United States;X-APPLE-RADIUS=100;X-TITLE=Men
 don Town Hall:geo:0,0
END:VEVENT
BEGIN:VTIMEZONE
TZID:America/New_York
X-LIC-LOCATION:America/New_York
BEGIN:STANDARD
DTSTART:20231105T010000
TZOFFSETFROM:-0400
TZOFFSETTO:-0500
TZNAME:EST
END:STANDARD
END:VTIMEZONE
END:VCALENDAR