BEGIN:VCALENDAR
VERSION:2.0
PRODID:-//wp-events-plugin.com//7.2.3.1//EN
TZID:America/New_York
X-WR-TIMEZONE:America/New_York
BEGIN:VEVENT
UID:628@townofmendonny.gov
DTSTART;TZID=America/New_York:20231016T190000
DTEND;TZID=America/New_York:20231016T200000
DTSTAMP:20231013T134939Z
URL:https://townofmendonny.gov/events/town-board-meeting-5/
SUMMARY:Town Board Meeting
DESCRIPTION:TOWN OF MENDON\nTown Board Agenda – Tentative\nMonday\, Octob
 er 16\, 2023 – 7:00PM\n16 West Main Street\nHoneoye Falls\, NY 14472\n\n
 1. Call to Order\n2. Pledge of Allegiance\n3. Agenda\n4. Public Comment\n5
 . Communications\n6. Supervisor’s Monthly Report\n7. Town Clerk's Monthl
 y Report\n8. Minutes\n9. Budget Transfers\n10. Abstract of Audited Voucher
 s\n11. Fire Protection Contract\n12. Computer Equipment for Scrap\n13. Int
 ermunicipal Agreement with Monroe County for Snow Removal and Ice Control\
 n14. 2024 Budget Discussion\n15. Preliminary Budget\n16. Schedule Public H
 earing for the 2024 Preliminary Budget\n17. Schedule Public Hearing for th
 e 2024 Capital Improvement Plan\n18. Veterans Day Lunch - Discussion\n19. 
 Ambulance Contract\n20. AlignMark 360 Degree Feedback\n21. St. Thomas Aqui
 nas Youth Baseball Field Request\n22. Splash Park Payment- Whitney East\n2
 3. Public Comment\n24. Adjournment\n\nOctober 16\, 2023
CATEGORIES:Town Board Meeting
LOCATION:Mendon Town Hall\, 16 West Main Street\, Honeoye Falls\, New York\
 , 14472\, United States
X-APPLE-STRUCTURED-LOCATION;VALUE=URI;X-ADDRESS=16 West Main Street\, Honeo
 ye Falls\, New York\, 14472\, United States;X-APPLE-RADIUS=100;X-TITLE=Men
 don Town Hall:geo:0,0
END:VEVENT
BEGIN:VTIMEZONE
TZID:America/New_York
X-LIC-LOCATION:America/New_York
BEGIN:DAYLIGHT
DTSTART:20230312T030000
TZOFFSETFROM:-0500
TZOFFSETTO:-0400
TZNAME:EDT
END:DAYLIGHT
END:VTIMEZONE
END:VCALENDAR