BEGIN:VCALENDAR
VERSION:2.0
PRODID:-//wp-events-plugin.com//7.2.3.1//EN
TZID:America/New_York
X-WR-TIMEZONE:America/New_York
BEGIN:VEVENT
UID:1240@townofmendonny.gov
DTSTART;TZID=America/New_York:20260511T190000
DTEND;TZID=America/New_York:20260511T210000
DTSTAMP:20260418T142751Z
URL:https://townofmendonny.gov/events/town-board-meeting-41/
SUMMARY:Town Board Meeting
DESCRIPTION:AGENDA:  Please check back later\n\n&nbsp\;\n\nTown Board Meet
 ings for 2026\, 7:00 PM Mondays as follows: \n\nJanuary 5 (Organizational
  Meeting)\, January 20\, February 9\, March 9\, April 13\,  May 11\, June
  8\, July 13\, August 10\, September 14\, September 28\, October 5\, Octob
 er 26\, November 9\, December 14 and December 28.
CATEGORIES:Town Board Meeting
LOCATION:Mendon Town Hall\, 16 West Main Street\, Honeoye Falls\, New York\
 , 14472\, United States
X-APPLE-STRUCTURED-LOCATION;VALUE=URI;X-ADDRESS=16 West Main Street\, Honeo
 ye Falls\, New York\, 14472\, United States;X-APPLE-RADIUS=100;X-TITLE=Men
 don Town Hall:geo:0,0
END:VEVENT
BEGIN:VTIMEZONE
TZID:America/New_York
X-LIC-LOCATION:America/New_York
BEGIN:DAYLIGHT
DTSTART:20260308T030000
TZOFFSETFROM:-0500
TZOFFSETTO:-0400
TZNAME:EDT
END:DAYLIGHT
END:VTIMEZONE
END:VCALENDAR