BEGIN:VCALENDAR
VERSION:2.0
PRODID:-//wp-events-plugin.com//7.2.3.1//EN
TZID:America/New_York
X-WR-TIMEZONE:America/New_York
BEGIN:VEVENT
UID:625@townofmendonny.gov
DTSTART;TZID=America/New_York:20230925T190000
DTEND;TZID=America/New_York:20230925T200000
DTSTAMP:20230922T195947Z
URL:https://townofmendonny.gov/events/town-board-meeting-4/
SUMMARY:Town Board Meeting
DESCRIPTION:TOWN OF MENDON\nTown Board Agenda – Tentative\nMonday\, Septe
 mber 25\, 2023 – 7:00PM\n16 West Main Street\nHoneoye Falls\, NY\n\nREGU
 LAR MEETING\n\n1. Call to Order\n2. Pledge of Allegiance\n3. Agenda\n4. Pu
 blic Comment\n5. Communications\n6. Budget Transfers\n7. Stone Wall Repair
 - Mendon Public Library\n8. Town Hall Painting\n9. Contract with Klepper\,
  Hahn &amp\; Hyatt - Concrete Issues\n10. 2024 Budget Discussion\n11. Prel
 iminary Budget 2024\n12. Schedule Public Hearing for the 2024 Budget\n13. 
 Veterans Day Lunch\n14. Schedule Public Hearing for Capital Improvement Pl
 an\n15. Reconciliation of 284 Agreement 2023\n16. Purchase of Truck Parts\
 n17. Executive Session\n18. Public Comment\n19. Adjournment\n\nSupporting 
 Docs 
CATEGORIES:Town Board Meeting
LOCATION:Mendon Town Hall\, 16 West Main Street\, Honeoye Falls\, New York\
 , 14472\, United States
X-APPLE-STRUCTURED-LOCATION;VALUE=URI;X-ADDRESS=16 West Main Street\, Honeo
 ye Falls\, New York\, 14472\, United States;X-APPLE-RADIUS=100;X-TITLE=Men
 don Town Hall:geo:0,0
END:VEVENT
BEGIN:VTIMEZONE
TZID:America/New_York
X-LIC-LOCATION:America/New_York
BEGIN:DAYLIGHT
DTSTART:20230312T030000
TZOFFSETFROM:-0500
TZOFFSETTO:-0400
TZNAME:EDT
END:DAYLIGHT
END:VTIMEZONE
END:VCALENDAR