BEGIN:VCALENDAR
VERSION:2.0
PRODID:-//wp-events-plugin.com//7.2.3.1//EN
TZID:America/New_York
X-WR-TIMEZONE:America/New_York
BEGIN:VEVENT
UID:1208@townofmendonny.gov
DTSTART;TZID=America/New_York:20251229T190000
DTEND;TZID=America/New_York:20251229T210000
DTSTAMP:20251228T195848Z
URL:https://townofmendonny.gov/events/town-board-meeting-35/
SUMMARY:Town Board Meeting
DESCRIPTION:TOWN OF MENDON\nTown Board Agenda – Tentative\nMonday\, Decem
 ber 29\, 2025 – 7:00PM\nMendon Town Hall\n16 West Main Street\, Honeoye 
 Falls\, NY\nSPECIAL MEETING\n\n1. Call to Order\n2. Pledge of Allegiance\n
 3. Agenda\n4. Public Comment\n5. Communications\n6. Supervisor’s Monthly
  Report\n7. Minutes\n8. Budget Adjustments\n9. Abstract of Audited Voucher
 s\n10. Public Hearing – Stoney Lonesome Road Closure – Continued\n11. 
 Public Hearing – Short Term Rental – Renewal\n12. Stoney Lonesome Road
  Closure – SEQRA and Closure\n13. Short Term Rental – Approval\n14. Pu
 blic Comment\n15. Adjournment\n\nDecember 29\, 2025
CATEGORIES:Town Board Meeting
LOCATION:Mendon Town Hall\, 16 West Main Street\, Honeoye Falls\, New York\
 , 14472\, United States
X-APPLE-STRUCTURED-LOCATION;VALUE=URI;X-ADDRESS=16 West Main Street\, Honeo
 ye Falls\, New York\, 14472\, United States;X-APPLE-RADIUS=100;X-TITLE=Men
 don Town Hall:geo:0,0
END:VEVENT
BEGIN:VTIMEZONE
TZID:America/New_York
X-LIC-LOCATION:America/New_York
BEGIN:STANDARD
DTSTART:20251102T010000
TZOFFSETFROM:-0400
TZOFFSETTO:-0500
TZNAME:EST
END:STANDARD
END:VTIMEZONE
END:VCALENDAR