BEGIN:VCALENDAR
VERSION:2.0
PRODID:-//wp-events-plugin.com//7.2.3.1//EN
TZID:America/New_York
X-WR-TIMEZONE:America/New_York
BEGIN:VEVENT
UID:1155@townofmendonny.gov
DTSTART;TZID=America/New_York:20250106T190000
DTEND;TZID=America/New_York:20250106T210000
DTSTAMP:20250106T205025Z
URL:https://townofmendonny.gov/events/town-board-meeting-32/
SUMMARY:Town Board Meeting
DESCRIPTION:TOWN OF MENDON\nTown Board Agenda – Tentative\nMonday\, Janua
 ry 6\, 2025 – 7:00PM\nMendon Town Hall\n16 West Main Street\, Honeoye Fa
 lls\, NY\nORGANIZATIONAL MEETING\n1. Call to Order\n2. Pledge of Allegianc
 e\n3. Agenda\n4. Public Comment\n5. Delegation of Administrative Duties to
  The Supervisor\n6. Position Appointments – Part Time\n7. Position Reten
 tion\n8. Deputy Town Clerk-Part Time – Position Retention and Appointmen
 t\n9. Highway Department – Position Retentions and Appointments\n10. Zon
 ing Board of Appeals Attorney – Position Retention and Appointment\n11. 
 Planning Board Counsel/Legal Services – Position Retention and Appointme
 nt\n12. Justice Court – Temporary Assignment of Justices\n13. Laura Land
 ers\, LLC\n14. Liaisons\n15. Town Board Meetings Schedule\n16. Standard Wo
 rkday for Elected and Appointed Officials\n17. 2025 Holiday Schedules\n18.
  Town Hall Operating Hours\n19. Policy and Procedures Manual\n20. Fund Bal
 ance Policy\n21. Emergency Preparedness (Disaster) Plan\n22. Official Town
  Map\n23. Official Newspaper\n24. Emergency Response – Highway Departmen
 t\n25. Mendon Fire Hall – Ice Control\n26. Boards\, Committees\, Commiss
 ions – Advertise for Meetings\n27. Official Undertakings\n28. Salaries 
 – Elected/Appointed/Hourly Wages\n29. Personnel Policy – Variable Amou
 nts Associated with Policies\n30. Payroll Schedule\n31. Mileage Allowance\
 n32. Annual Report of Supervisor\n33. Annual Accounting – Town Board Com
 mittee\n34. Official Banks\n35. Payments Before Audit\n\n36. Review of Mon
 thly Vouchers\n37. Petty Cash Funds\n38. Fee Schedule\n39. Environmental C
 onservation Board\n40. Historic Preservation Commission\n41. Library Board
  of Trustees\n42. Planning Board\n43. Zoning Board of Appeals\n44. Records
  Management Advisory Board\n45. Board of Ethics\n46. Engineering/Planning 
 Services Agreement\n47. Highway Department Agreements\n48. Town Hall Agree
 ments\n49. Community Center Agreements\n50. 22 North Main Street Agreement
 \n51. Village of Honeoye Falls Agreements\n52. Honeoye Falls-Lima Central 
 School District Agreements\n53. Monroe County Agreements\n54. Community Or
 ganization Agreements\n55. Use of Town Meeting Rooms\n56. Dog Impoundment 
 Facility\n57. Communications\n58. Supervisor’s Monthly Report\n59. Town 
 Clerk’s Monthly Report\n60. Minutes\n61. Budget Adjustments\n62. Voucher
 s\n63. Employee Handbook Discussion\n64. MRB – Grant Writing Records Man
 agement\n65. MRB – Sidewalks\n66. Door Purchases – Town Hall and Highw
 ay Department\n67. Historic Preservation Commission – Special Meeting\n6
 8. Public Comment\n69. Adjournment\n\n&nbsp\;\n\n010625 Tentative Agenda P
 roposed Resolution and available Supporting Docs\n\nNov 24 Supervisors Rep
 ort\n\n&nbsp\;\n\n&nbsp\;
CATEGORIES:Town Board Meeting
LOCATION:Mendon Town Hall\, 16 West Main Street\, Honeoye Falls\, New York\
 , 14472\, United States
X-APPLE-STRUCTURED-LOCATION;VALUE=URI;X-ADDRESS=16 West Main Street\, Honeo
 ye Falls\, New York\, 14472\, United States;X-APPLE-RADIUS=100;X-TITLE=Men
 don Town Hall:geo:0,0
END:VEVENT
BEGIN:VTIMEZONE
TZID:America/New_York
X-LIC-LOCATION:America/New_York
BEGIN:STANDARD
DTSTART:20241103T010000
TZOFFSETFROM:-0400
TZOFFSETTO:-0500
TZNAME:EST
END:STANDARD
END:VTIMEZONE
END:VCALENDAR