BEGIN:VCALENDAR
VERSION:2.0
PRODID:-//wp-events-plugin.com//7.2.3.1//EN
TZID:America/New_York
X-WR-TIMEZONE:America/New_York
BEGIN:VEVENT
UID:610@townofmendonny.gov
DTSTART;TZID=America/New_York:20230717T190000
DTEND;TZID=America/New_York:20230717T200000
DTSTAMP:20230714T161655Z
URL:https://townofmendonny.gov/events/town-board-meeting-3/
SUMMARY:Town Board Meeting
DESCRIPTION:TOWN OF MENDON\nTown Board Agenda – Tentative\nMonday\, July 
 17\, 2023 – 7:00PM\n16 West Main Street\nHoneoye Falls\, NY\n\n1. Call t
 o Order\n2. Pledge of Allegiance\n3. Agenda\n4. Public Comment\n5. Communi
 cations\n6. Supervisor’s Monthly Report\n7. Town Clerk&amp\;#39\;s Month
 ly Report\n8. Minutes\n9. Budget Transfers\n10. Abstract of Audited Vouche
 rs\n11. Credit Release- Mendon Green\n12. Driveway and Basketball Court Se
 aling and Striping\n13. Establishing a Reserve Fund for Library Computers\
 n14. Amending the Agricultural Data Statement for Applications\n15. EPOD #
 5- Recommendation from the Historic Preservation Commission\n16. Authoriza
 tion for Excess Highway Equipment to Auction\n17. Short Term Rental Applic
 ation\, Standards and Inspection Forms\n18. Public Comment\n19. Adjournmen
 t\n\nInformational Packet - July 17\, 2023
CATEGORIES:Town Board Meeting
LOCATION:Mendon Town Hall\, 16 West Main Street\, Honeoye Falls\, New York\
 , 14472\, United States
X-APPLE-STRUCTURED-LOCATION;VALUE=URI;X-ADDRESS=16 West Main Street\, Honeo
 ye Falls\, New York\, 14472\, United States;X-APPLE-RADIUS=100;X-TITLE=Men
 don Town Hall:geo:0,0
END:VEVENT
BEGIN:VTIMEZONE
TZID:America/New_York
X-LIC-LOCATION:America/New_York
BEGIN:DAYLIGHT
DTSTART:20230312T030000
TZOFFSETFROM:-0500
TZOFFSETTO:-0400
TZNAME:EDT
END:DAYLIGHT
END:VTIMEZONE
END:VCALENDAR