BEGIN:VCALENDAR
VERSION:2.0
PRODID:-//wp-events-plugin.com//7.2.3.1//EN
TZID:America/New_York
X-WR-TIMEZONE:America/New_York
BEGIN:VEVENT
UID:1152@townofmendonny.gov
DTSTART;TZID=America/New_York:20251208T190000
DTEND;TZID=America/New_York:20251208T210000
DTSTAMP:20251207T000229Z
URL:https://townofmendonny.gov/events/town-board-meeting-29/
SUMMARY:Town Board Meeting
DESCRIPTION:&nbsp\;\n\nTOWN OF MENDON\nTown Board Agenda – Tentative\nMon
 day\, December 8\, 2025 – 7:00PM\nMendon Town Hall\n\n16 West Main Stree
 t\, Honeoye Falls\, NY\nREGULAR MEETING\n\n1. Call to Order\n2. Pledge of 
 Allegiance\n3. Agenda\n4. Public Comment\n5. Communications\n6. Supervisor
 ’s Monthly Report\n7. Town Clerk’s Monthly Report\n8. Minutes\n9. Budg
 et Adjustments\n10. Abstract of Audited Vouchers\n11. Public Hearing – S
 toney Lonesome Road Closure\n12. Tax Receiver’s 2026 Bond – Approval\n
 13. 2025 NYS Annual Financial Report – Laura L. Landers\, LLC Agreement\
 n14. NYS Snow &amp\; Ice Agreement – Amendment\n15. 2026 284 Agreement 
 – Approval\n16. 2026 Organizational Meeting\n17. Short Term Rental – R
 enewal – Establish Public Hearing\n18. New York Planning Federation Annu
 al Conference Registration\n19. Declaration of Surplus\n20. Public Comment
 \n21. Adjournment\n\nDecember 8\, 2025 supporting documents\n\n&nbsp\;
CATEGORIES:Town Board Meeting
LOCATION:Mendon Town Hall\, 16 West Main Street\, Honeoye Falls\, New York\
 , 14472\, United States
X-APPLE-STRUCTURED-LOCATION;VALUE=URI;X-ADDRESS=16 West Main Street\, Honeo
 ye Falls\, New York\, 14472\, United States;X-APPLE-RADIUS=100;X-TITLE=Men
 don Town Hall:geo:0,0
END:VEVENT
BEGIN:VTIMEZONE
TZID:America/New_York
X-LIC-LOCATION:America/New_York
BEGIN:STANDARD
DTSTART:20251102T010000
TZOFFSETFROM:-0400
TZOFFSETTO:-0500
TZNAME:EST
END:STANDARD
END:VTIMEZONE
END:VCALENDAR