BEGIN:VCALENDAR
VERSION:2.0
PRODID:-//wp-events-plugin.com//7.2.3.1//EN
TZID:America/New_York
X-WR-TIMEZONE:America/New_York
BEGIN:VEVENT
UID:1151@townofmendonny.gov
DTSTART;TZID=America/New_York:20251110T190000
DTEND;TZID=America/New_York:20251110T210000
DTSTAMP:20251109T210807Z
URL:https://townofmendonny.gov/events/town-board-meeting-28/
SUMMARY:Town Board Meeting
DESCRIPTION:&nbsp\;\nTOWN OF MENDON\nTown Board Agenda – Tentative\nMonda
 y\, November 10\, 2025 – 7:00 PM\nMendon Town Hall\n16 West Main Street\
 , Honeoye Falls\, NY\nREGULAR MEETING\n\n 	Call to Order\n 	 Pledge of All
 egiance \n 	 Agenda \n 	 Public Comment \n 	 Communications \n 	 Town 
 Clerk’s Monthly Report\n 	 Minutes\n 	 Budget Adjustments \n 	 Abstract
  of Audited Vouchers\n 	 2026 Summer Recreation Program Agreement\n 	 Fire
  Protection District Contract\n 	 Establish Public Hearing – Stoney Lone
 some Road Closure\n 	 Establish Lead Agency for Stoney Lonesome Road Closu
 re\n 	 Building Department Tech Purchases\n 	 101 Semmel Road – Building
  Renovations\n 	 Use of Town Property – Requirements\n 	 Gottermier Zoni
 ng – Discussion \n 	 PERMA – Grant Acceptance  \n 	 Red Cross Train
 ing\n 	 2026 Swearing-In Ceremony\n 	 New Years Day\n 	 Employee Recogniti
 on Lunch\n 	 Declaration of Surplus\n 	 Public Comment \n 	 Adjournment 
 \n\nSupporting Documents\n\n&nbsp\;
CATEGORIES:Town Board Meeting
LOCATION:Mendon Town Hall\, 16 West Main Street\, Honeoye Falls\, New York\
 , 14472\, United States
X-APPLE-STRUCTURED-LOCATION;VALUE=URI;X-ADDRESS=16 West Main Street\, Honeo
 ye Falls\, New York\, 14472\, United States;X-APPLE-RADIUS=100;X-TITLE=Men
 don Town Hall:geo:0,0
END:VEVENT
BEGIN:VTIMEZONE
TZID:America/New_York
X-LIC-LOCATION:America/New_York
BEGIN:STANDARD
DTSTART:20251102T010000
TZOFFSETFROM:-0400
TZOFFSETTO:-0500
TZNAME:EST
END:STANDARD
END:VTIMEZONE
END:VCALENDAR