BEGIN:VCALENDAR
VERSION:2.0
PRODID:-//wp-events-plugin.com//7.2.3.1//EN
TZID:America/New_York
X-WR-TIMEZONE:America/New_York
BEGIN:VEVENT
UID:1149@townofmendonny.gov
DTSTART;TZID=America/New_York:20250922T190000
DTEND;TZID=America/New_York:20250922T210000
DTSTAMP:20251020T002213Z
URL:https://townofmendonny.gov/events/town-board-meeting-26/
SUMMARY:Town Board Meeting
DESCRIPTION:TOWN OF MENDON\nTown Board Agenda – Tentative\nMonday\, Septe
 mber 22\, 2025 – 7:00PM\nMendon Town Hall\n16 West Main Street\, Honeoye
  Falls\, NY\nREGULAR MEETING\n1. Call to Order\n2. Pledge of Allegiance\n3
 . Agenda\n4. Public Comment\n5. Communications\n6. Supervisor’s Monthly 
 Report\n7. Minutes\n8. 2025 Budget Modification – Addition of Line\n9. B
 udget Adjustments\n10. Abstract of Audited Vouchers\n11. 2026 Tentative Bu
 dget – Discussion\n12. 2026 Preliminary Budget – Acceptance and Establ
 ish Public Hearing\n13. Capital Improvement Program – Establish Public H
 earing\n14. Fire Protection District – Establish Public Hearing\n15. Sno
 w and Ice Control Operations for Local Highway Officials – Attendance\n1
 6. Recycling Event\n17. Declaration of Surplus\n18. Public Comment\n19. Ad
 journment\n\nSupporting documents
CATEGORIES:Town Board Meeting
LOCATION:Mendon Town Hall\, 16 West Main Street\, Honeoye Falls\, New York\
 , 14472\, United States
X-APPLE-STRUCTURED-LOCATION;VALUE=URI;X-ADDRESS=16 West Main Street\, Honeo
 ye Falls\, New York\, 14472\, United States;X-APPLE-RADIUS=100;X-TITLE=Men
 don Town Hall:geo:0,0
END:VEVENT
BEGIN:VTIMEZONE
TZID:America/New_York
X-LIC-LOCATION:America/New_York
BEGIN:DAYLIGHT
DTSTART:20250309T030000
TZOFFSETFROM:-0500
TZOFFSETTO:-0400
TZNAME:EDT
END:DAYLIGHT
END:VTIMEZONE
END:VCALENDAR