BEGIN:VCALENDAR
VERSION:2.0
PRODID:-//wp-events-plugin.com//7.2.3.1//EN
TZID:America/New_York
X-WR-TIMEZONE:America/New_York
BEGIN:VEVENT
UID:1148@townofmendonny.gov
DTSTART;TZID=America/New_York:20250908T190000
DTEND;TZID=America/New_York:20250908T210000
DTSTAMP:20250908T005334Z
URL:https://townofmendonny.gov/events/town-board-meeting-25/
SUMMARY:Town Board Meeting - September 8\, 2025
DESCRIPTION:TOWN OF MENDON\nTown Board Agenda – Tentative\nMonday\, Septe
 mber 8\, 2025 – 7:00PM\nMendon Town Hall\n\n16 West Main Street\, Honeoy
 e Falls\, NY\nREGULAR MEETING\n\n1. Call to Order\n2. Pledge of Allegiance
 \n3. Agenda\n4. Public Comment\n5. Communications\n6. Supervisor’s Month
 ly Report\n7. Town Clerk’s Monthly Report\n8. Minutes\n9. Budget Adjustm
 ents\n10. Transfer of Reserve Funds\n11. Abstract of Audited Vouchers\n12.
  2026 Tentative Budget – Presentation\n13. Capital Improvement Program 
 – Discussion\n14. Constitution Week – Proclamation\n15. Driesbach Park
  – Rectangular Fields – ARPA Funding Approval\n16. Dog Control Vehicle
  – Authorization for Additional Expense\n17. Climate Smart Communities 
 – Discussion\n18. Fire Protection District and Ambulance Contracts – D
 iscussion\n19. Declaration of Surplus\n20. Public Comment\n21. Executive S
 ession – Pending or Current Litigation\n22. Adjournment\n\nSupporting Do
 cuments\n\n&nbsp\;
CATEGORIES:Town Board Meeting
LOCATION:Mendon Town Hall\, 16 West Main Street\, Honeoye Falls\, New York\
 , 14472\, United States
X-APPLE-STRUCTURED-LOCATION;VALUE=URI;X-ADDRESS=16 West Main Street\, Honeo
 ye Falls\, New York\, 14472\, United States;X-APPLE-RADIUS=100;X-TITLE=Men
 don Town Hall:geo:0,0
END:VEVENT
BEGIN:VTIMEZONE
TZID:America/New_York
X-LIC-LOCATION:America/New_York
BEGIN:DAYLIGHT
DTSTART:20250309T030000
TZOFFSETFROM:-0500
TZOFFSETTO:-0400
TZNAME:EDT
END:DAYLIGHT
END:VTIMEZONE
END:VCALENDAR