BEGIN:VCALENDAR
VERSION:2.0
PRODID:-//wp-events-plugin.com//7.2.3.1//EN
TZID:America/New_York
X-WR-TIMEZONE:America/New_York
BEGIN:VEVENT
UID:1144@townofmendonny.gov
DTSTART;TZID=America/New_York:20250609T190000
DTEND;TZID=America/New_York:20250609T210000
DTSTAMP:20250607T142301Z
URL:https://townofmendonny.gov/events/town-board-meeting-22/
SUMMARY:Town Board Meeting
DESCRIPTION:&nbsp\;\n\nTOWN OF MENDON\nTown Board Agenda – Tentative\nMon
 day\, June 9\, 2025 – 7:00PM\nMendon Town Hall\n\n16 West Main Street\, 
 Honeoye Falls\, NY\nREGULAR MEETING\n\n1. Call to Order\n2. Pledge of Alle
 giance\n3. Agenda\n4. Public Comment\n5. Communications\n6. Supervisor’s
  Monthly Report\n7. Town Clerk’s Monthly Report\n8. Minutes\n9. Budget A
 djustments\n10. Abstract of Audited Vouchers\n11. Proposed Local Law – T
 emporary Signs – Establish Public Hearing\n12. Proposed Local Law – Re
 sidency Restrictions for Deputy Highway Superintendent –\nEstablish Publ
 ic Hearing\n13. Proposed Local Law – Amend Chapter 138 – EPODs – Dis
 cussion\n14. Highway Department – Purchase of Truck\n15. Highway Departm
 ent – Purchase of Loader\n16. National Fuel – Temporary Construction E
 asement\n17. Commemoration of General Lafayette’s visit to Mendon\n18. P
 ublic Comment\n19. Adjournment\n\nSupporting Documents\n\n&nbsp\;
CATEGORIES:Town Board Meeting
LOCATION:Mendon Town Hall\, 16 West Main Street\, Honeoye Falls\, New York\
 , 14472\, United States
X-APPLE-STRUCTURED-LOCATION;VALUE=URI;X-ADDRESS=16 West Main Street\, Honeo
 ye Falls\, New York\, 14472\, United States;X-APPLE-RADIUS=100;X-TITLE=Men
 don Town Hall:geo:0,0
END:VEVENT
BEGIN:VTIMEZONE
TZID:America/New_York
X-LIC-LOCATION:America/New_York
BEGIN:DAYLIGHT
DTSTART:20250309T030000
TZOFFSETFROM:-0500
TZOFFSETTO:-0400
TZNAME:EDT
END:DAYLIGHT
END:VTIMEZONE
END:VCALENDAR