BEGIN:VCALENDAR
VERSION:2.0
PRODID:-//wp-events-plugin.com//7.2.3.1//EN
TZID:America/New_York
X-WR-TIMEZONE:America/New_York
BEGIN:VEVENT
UID:593@townofmendonny.gov
DTSTART;TZID=America/New_York:20231211T190000
DTEND;TZID=America/New_York:20231211T200000
DTSTAMP:20231208T174551Z
URL:https://townofmendonny.gov/events/town-board-meeting-2023-12-11/
SUMMARY:Town Board Meeting
DESCRIPTION:REGULAR MEETING AGENDA\n\n 	Call to Order\n 	Pledge of Allegian
 ce\n 	Agenda\n 	Public Comment\n 	Communications\n 	Supervisor's Monthly R
 eport\n 	Town Clerk's Monthly Report\n 	Minutes\n 	Budget Adjustments\n 	N
 ewly Elected Justice Taking the Bench Certification Course -Attendance App
 roval\n 	Abstract of Audited Vouchers\n 	Town Board Meeting Schedule -2024
 \n 	Tax Receiver's Bond Approval- 2024\n 	NYS Association of Towns -Annual
  Training Attendance -Approval\n 	Board of Assessment Review - Appointment
 \n 	Highway Department - Winter Dispatchers Wages - Approval\n 	Personnel 
 Policy - Proposed Healthcare and HRA Changes - Approval\n 	Short Term Rent
 al-Renewal\n 	Spray Park- Whitney East\, -Final Payment Approval\n 	Spray 
 Park-C.P. Ward-Final Payment Approval\n 	Spray Park- Labella Associates\, 
 P.C- Mutual Release\n 	Declaration of Surplus\n 	Speed Reduction Request- 
 Pittsford Mendon Center Road-TE-9a\n 	Youth Center Rules - Discussion\n 	P
 ublic Comment\n 	Adjournment\n\nSupporting Documents
CATEGORIES:Town Board Meeting
LOCATION:Mendon Town Hall\, 16 West Main Street\, Honeoye Falls\, New York\
 , 14472\, United States
X-APPLE-STRUCTURED-LOCATION;VALUE=URI;X-ADDRESS=16 West Main Street\, Honeo
 ye Falls\, New York\, 14472\, United States;X-APPLE-RADIUS=100;X-TITLE=Men
 don Town Hall:geo:0,0
END:VEVENT
BEGIN:VTIMEZONE
TZID:America/New_York
X-LIC-LOCATION:America/New_York
BEGIN:STANDARD
DTSTART:20231105T010000
TZOFFSETFROM:-0400
TZOFFSETTO:-0500
TZNAME:EST
END:STANDARD
END:VTIMEZONE
END:VCALENDAR