BEGIN:VCALENDAR
VERSION:2.0
PRODID:-//wp-events-plugin.com//7.2.3.1//EN
TZID:America/New_York
X-WR-TIMEZONE:America/New_York
BEGIN:VEVENT
UID:590@townofmendonny.gov
DTSTART;TZID=America/New_York:20230911T190000
DTEND;TZID=America/New_York:20230911T200000
DTSTAMP:20230911T141230Z
URL:https://townofmendonny.gov/events/town-board-meeting-2023-09-11/
SUMMARY:Town Board Meeting
DESCRIPTION:TOWN OF MENDON\nTown Board Agenda – Tentative\nMonday\, Septe
 mber 11\, 2023 – 7:00PM\n16 West Main Street\nHoneoye Falls\, NY\n\n1. C
 all to Order\n2. Pledge of Allegiance\n3. Agenda\n4. Public Comment\n5. Co
 mmunications\n6. Supervisor’s Monthly Report\n7. Town Clerk's Monthly Re
 port\n8. Minutes\n9. Budget Transfers\n10. Abstract of Audited Vouchers\n1
 1. Short Term Rental Application- Public Hearing\n12. Anvil- Mendon Farms\
 n13. LaBella - Presentation- Mike Simon\n14. 2024 Tentative Budget Present
 ation\n15. Authorize Payment to WNY Sealers\n16. Town Hall Door Staining\n
 17. Tracey Road Repair\n18. Reconciliation of 284 Agreement 2023\n19. Traf
 fic Control Device Abolishment/Establishment-REVISED\n20. Splash Park Paym
 ent- Whitney East\n21. Executive Session- Personnel Matter\n22. Public Com
 ment\n23. Adjournment\n\nSupporting Documents
CATEGORIES:Town Board Meeting
LOCATION:Mendon Town Hall\, 16 West Main Street\, Honeoye Falls\, New York\
 , 14472\, United States
X-APPLE-STRUCTURED-LOCATION;VALUE=URI;X-ADDRESS=16 West Main Street\, Honeo
 ye Falls\, New York\, 14472\, United States;X-APPLE-RADIUS=100;X-TITLE=Men
 don Town Hall:geo:0,0
END:VEVENT
BEGIN:VTIMEZONE
TZID:America/New_York
X-LIC-LOCATION:America/New_York
BEGIN:DAYLIGHT
DTSTART:20230312T030000
TZOFFSETFROM:-0500
TZOFFSETTO:-0400
TZNAME:EDT
END:DAYLIGHT
END:VTIMEZONE
END:VCALENDAR