BEGIN:VCALENDAR
VERSION:2.0
PRODID:-//wp-events-plugin.com//7.2.3.1//EN
TZID:America/New_York
X-WR-TIMEZONE:America/New_York
BEGIN:VEVENT
UID:589@townofmendonny.gov
DTSTART;TZID=America/New_York:20230814T190000
DTEND;TZID=America/New_York:20230814T200000
DTSTAMP:20230811T151638Z
URL:https://townofmendonny.gov/events/town-board-meeting-2023-08-14/
SUMMARY:Town Board Meeting
DESCRIPTION:TOWN OF MENDON\nTown Board Agenda – Tentative\nMonday\, Augus
 t 14\, 2023 – 7:00PM\n16 West Main Street\nHoneoye Falls\, NY\n1. Call t
 o Order\n2. Pledge of Allegiance\n3. Agenda\n4. Public Comment\n5. Communi
 cations\n6. Supervisor’s Monthly Report\n7. Town Clerk's Monthly Report\
 n8. Minutes\n9. Budget Transfers\n10. Abstract of Audited Vouchers\n11. Tr
 affic Control Device Establishment\n12. Driveway and Parking Lot Sealing a
 nd Striping\n13. Wage Changes\n14. Assessments and Equalization Rate\n15. 
 EZ Pass Application\n16. Mendon Youth Center\n17. Payroll Procedure\n18. V
 oucher Form\n19. Public Comment\n20. Adjournment\nSupporting Documents
CATEGORIES:Town Board Meeting
LOCATION:Mendon Town Hall\, 16 West Main Street\, Honeoye Falls\, New York\
 , 14472\, United States
X-APPLE-STRUCTURED-LOCATION;VALUE=URI;X-ADDRESS=16 West Main Street\, Honeo
 ye Falls\, New York\, 14472\, United States;X-APPLE-RADIUS=100;X-TITLE=Men
 don Town Hall:geo:0,0
END:VEVENT
BEGIN:VTIMEZONE
TZID:America/New_York
X-LIC-LOCATION:America/New_York
BEGIN:DAYLIGHT
DTSTART:20230312T030000
TZOFFSETFROM:-0500
TZOFFSETTO:-0400
TZNAME:EDT
END:DAYLIGHT
END:VTIMEZONE
END:VCALENDAR