BEGIN:VCALENDAR
VERSION:2.0
PRODID:-//wp-events-plugin.com//7.2.3.1//EN
TZID:America/New_York
X-WR-TIMEZONE:America/New_York
BEGIN:VEVENT
UID:587@townofmendonny.gov
DTSTART;TZID=America/New_York:20230612T190000
DTEND;TZID=America/New_York:20230612T200000
DTSTAMP:20230609T135623Z
URL:https://townofmendonny.gov/events/town-board-meeting-2023-06-12/
SUMMARY:Town Board Meeting
DESCRIPTION:Meeting Agenda:\n\n1. Call to Order\n2. Pledge of Allegiance\n3
 . Agenda\n4. Public Comment\n5. Communications\n6. Supervisor’s Monthly 
 Report\n7. Town Clerk's Monthly Report\n8. Minutes\n9. Budget Transfers\n1
 0. Abstract of Audited Vouchers\n11. ARPA Funding\n12. Kennel Contract\n13
 . NYGFOA - Seminar Attendance\n14. Donation Acceptance - American Legion P
 ost 664\n15. Fee Schedule - Mendon Green Sewer\n16. Anthony Noto - Resolut
 ion of Accomplishment\n17. Semmel Road - Courts\n18. Budget Transfer - Res
 erve Fund\n19. Equipment Purchase - Caterpillar 420XE\n20. Local Law #1 20
 23 - Short Term Rental Chapter 236\n21. Local Law #2 2023 - Bed and Breakf
 ast Chapter 26-52\n22. Local Law #3 2023 - Deleting Sentence Town Code 206
 -61(A)\n23. Local Law #4 2023 - Chapter 26-24 (B) insertion of (3)\n24. Pl
 umbing Issue - 101 Semmel Rd.\n25. Seasonal Grey Water Disposal - Contract
 \n26. Public Comment\n27. Adjournment\n\nInformation Packet
CATEGORIES:Town Board Meeting
LOCATION:Mendon Town Hall\, 16 West Main Street\, Honeoye Falls\, New York\
 , 14472\, United States
X-APPLE-STRUCTURED-LOCATION;VALUE=URI;X-ADDRESS=16 West Main Street\, Honeo
 ye Falls\, New York\, 14472\, United States;X-APPLE-RADIUS=100;X-TITLE=Men
 don Town Hall:geo:0,0
END:VEVENT
BEGIN:VTIMEZONE
TZID:America/New_York
X-LIC-LOCATION:America/New_York
BEGIN:DAYLIGHT
DTSTART:20230312T030000
TZOFFSETFROM:-0500
TZOFFSETTO:-0400
TZNAME:EDT
END:DAYLIGHT
END:VTIMEZONE
END:VCALENDAR