BEGIN:VCALENDAR
VERSION:2.0
PRODID:-//wp-events-plugin.com//7.2.3.1//EN
TZID:America/New_York
X-WR-TIMEZONE:America/New_York
BEGIN:VEVENT
UID:586@townofmendonny.gov
DTSTART;TZID=America/New_York:20230508T190000
DTEND;TZID=America/New_York:20230508T200000
DTSTAMP:20230505T155038Z
URL:https://townofmendonny.gov/events/town-board-meeting-2023-05-08/
SUMMARY:Town Board Meeting
DESCRIPTION:TOWN OF MENDON\nTown Board Agenda – Tentative\n         
  \n\n 	Call to Order \n 	Pledge of Allegiance \n 	Agenda \n 	Public Co
 mment\n 	Communications \n 	Supervisor’s Monthly Report \n 	Town Clerk'
 s Monthly Report \n 	Minutes\n 	Budget Transfers\n 	Abstract of Audited Vo
 uchers\n 	Public Hearing - Local Law #3\n 	Public Hearing - Local Law #4 
 \n 	Short Term Rental and Bed &amp\; Breakfast - Local Laws #1&amp\;#2 \n
  	Spray Park - Opening\, Signage\, Rules\n 	Spray Park/Military Memorial B
 udget Amendment\n 	Spray Park - Furniture Order\n 	Military Memorial - Ded
 ication\n 	Monroe County Human Resource Meeting Attendance\n 	Dave Lochner
  Softball League - Field Request\n 	Letter of Credit Partial Release - Men
 don Green\n 	USDA- New York European Cherry Fruit Fly Program \n 	Associa
 tes in Employee Assistance - Contract\n 	Tennis Courts on Semmel Road\n 	P
 roperty Maintenance - 19 Windham Hill and 424 Cheese Factory Rd\n 	Town Bo
 ard Meeting Schedule - Date Change\n 	Public Comment \n 	Adjournment\n\nI
 nformational Packet
CATEGORIES:Town Board Meeting
LOCATION:Mendon Town Hall\, 16 West Main Street\, Honeoye Falls\, New York\
 , 14472\, United States
X-APPLE-STRUCTURED-LOCATION;VALUE=URI;X-ADDRESS=16 West Main Street\, Honeo
 ye Falls\, New York\, 14472\, United States;X-APPLE-RADIUS=100;X-TITLE=Men
 don Town Hall:geo:0,0
END:VEVENT
BEGIN:VTIMEZONE
TZID:America/New_York
X-LIC-LOCATION:America/New_York
BEGIN:DAYLIGHT
DTSTART:20230312T030000
TZOFFSETFROM:-0500
TZOFFSETTO:-0400
TZNAME:EDT
END:DAYLIGHT
END:VTIMEZONE
END:VCALENDAR