BEGIN:VCALENDAR
VERSION:2.0
PRODID:-//wp-events-plugin.com//7.2.3.1//EN
TZID:America/New_York
X-WR-TIMEZONE:America/New_York
BEGIN:VEVENT
UID:585@townofmendonny.gov
DTSTART;TZID=America/New_York:20230410T190000
DTEND;TZID=America/New_York:20230410T200000
DTSTAMP:20230406T121324Z
URL:https://townofmendonny.gov/events/town-board-meeting-2023-04-10/
SUMMARY:Town Board Meeting
DESCRIPTION:1. Call to Order\n2. Pledge of Allegiance\n3. Agenda\n4. Public
  Comment\n5. Communications\n6. Supervisor’s Monthly Report\n7. Town Cle
 rk's Monthly Report\n8. Minutes\n9. Budget Transfers\n10. Abstract of Audi
 ted Vouchers\n11. Town of Mendon- Report from the Fire Service Committee\n
 12. Contract for Shredding Materials for Residents\n13. RG&amp\;E Contract
  for Street Lighting\n14. Special Meeting- Town Board- April 24\, 2023\n15
 . Fee Schedule- Town of Mendon Building Dept.\n16. Blaze Soccer Applicatio
 n- Dreisbach Fields\n17. Ambulance Contract- Village of Honeoye Falls\n18.
  Comprehensive Plan Amendment- For Approval\n19. Replacement Sign- Mendon 
 Highway Dept.\n20. Local Law #1 2023- Short Term Rentals Chapter 236- Sche
 dule Public Hearing\n21. Local Law #2 2023- Bed and Breakfasts Establishme
 nts Chapter 260-52- Schedule\nPublic Hearing\n22. Local Law #3 2023- Delet
 ing Sentence Town Code 206-61(A)- Schedule a Public\nHearing\n23. Local La
 w #4 2023- Chapter 26-24 (B) insertion of (3)- Schedule a Public Hearing\n
 24. Request for Speed Reduction- Parrish Road\n25. Monroe County Hazard Mi
 tigation Plan 2023 Update\n26. Town Finance School Attendance\n27. Highway
  School Attendance\n28. NYS Retirement Seminar\n29. Budget Transfer Reserv
 e Fund\n30. Purchase- Felling Tag Trailer\n31. Purchase- Toro Mower\n32. A
 uthorization to Purchase- International Cab and Chassis with Plow Equipmen
 t\n33. Highway Dept. Items for Auction\n34. Release of Credit- Mendon Gree
 n\n35. National Library Week 2023\n36. Public Comment\n37. Adjournment\n\n
 Informational Packet\n\n&nbsp\;
CATEGORIES:Town Board Meeting
LOCATION:Mendon Town Hall\, 16 West Main Street\, Honeoye Falls\, New York\
 , 14472\, United States
X-APPLE-STRUCTURED-LOCATION;VALUE=URI;X-ADDRESS=16 West Main Street\, Honeo
 ye Falls\, New York\, 14472\, United States;X-APPLE-RADIUS=100;X-TITLE=Men
 don Town Hall:geo:0,0
END:VEVENT
BEGIN:VTIMEZONE
TZID:America/New_York
X-LIC-LOCATION:America/New_York
BEGIN:DAYLIGHT
DTSTART:20230312T030000
TZOFFSETFROM:-0500
TZOFFSETTO:-0400
TZNAME:EDT
END:DAYLIGHT
END:VTIMEZONE
END:VCALENDAR