BEGIN:VCALENDAR
VERSION:2.0
PRODID:-//wp-events-plugin.com//7.2.3.1//EN
TZID:America/New_York
X-WR-TIMEZONE:America/New_York
BEGIN:VEVENT
UID:584@townofmendonny.gov
DTSTART;TZID=America/New_York:20230313T190000
DTEND;TZID=America/New_York:20230313T200000
DTSTAMP:20230310T141112Z
URL:https://townofmendonny.gov/events/town-board-meeting-2023-03-13/
SUMMARY:Town Board Meeting
DESCRIPTION:Town Board Agenda – Tentative\nMonday\, March 13\, 2023 – 7
 :00PM\n16 West Main Street\nHoneoye Falls\, NY\n\nREGULAR MEETING\n1. Call
  to Order\n2. Pledge of Allegiance\n3. Agenda\n4. Public Comment\n5. Commu
 nications\n6. Supervisor’s Monthly Report\n7. Town Clerk's Monthly Repor
 t\n8. Minutes\n9. Budget Transfers\n10. Abstract of Audited Vouchers\n11. 
 Appointment- Environmental Conservation Board\n12. Scrap Items\n13. Youth 
 Center-Discussion\n14. Spray Park- Septic System Change Order\n15. Spray P
 ark- Snow Geese Base\n16. Educational Conference- Deputy Inspector\n17. Me
 ndon Green- Partial Credit Release\n18. Special Meeting- Comprehensive Pla
 n Update- Public Hearing\n19. Special Meeting- Fire Protection\n20. Planni
 ng Board Forms- Update\n21. Appointment- Board of Assessment Review\n22. F
 inance/HR Meeting Attendance\n23. Public Comment\n24. Adjournment\nInforma
 tion Packet
CATEGORIES:Town Board Meeting
LOCATION:Mendon Town Hall\, 16 West Main Street\, Honeoye Falls\, New York\
 , 14472\, United States
X-APPLE-STRUCTURED-LOCATION;VALUE=URI;X-ADDRESS=16 West Main Street\, Honeo
 ye Falls\, New York\, 14472\, United States;X-APPLE-RADIUS=100;X-TITLE=Men
 don Town Hall:geo:0,0
END:VEVENT
BEGIN:VTIMEZONE
TZID:America/New_York
X-LIC-LOCATION:America/New_York
BEGIN:DAYLIGHT
DTSTART:20230312T030000
TZOFFSETFROM:-0500
TZOFFSETTO:-0400
TZNAME:EDT
END:DAYLIGHT
END:VTIMEZONE
END:VCALENDAR