BEGIN:VCALENDAR
VERSION:2.0
PRODID:-//wp-events-plugin.com//7.2.3.1//EN
TZID:America/New_York
X-WR-TIMEZONE:America/New_York
BEGIN:VEVENT
UID:1142@townofmendonny.gov
DTSTART;TZID=America/New_York:20250414T190000
DTEND;TZID=America/New_York:20250414T210000
DTSTAMP:20250413T164102Z
URL:https://townofmendonny.gov/events/town-board-meeting-20/
SUMMARY:Town Board Meeting
DESCRIPTION:&nbsp\;\nTOWN OF MENDON\nTown Board Agenda – Tentative\nMonda
 y\, April 14\, 2025 – 7:00PM\nMendon Town Hall\n16 West Main Street\, Ho
 neoye Falls\, NY\nREGULAR MEETING\n1. Call to Order\n2. Pledge of Allegian
 ce\n3. Agenda\n4. Public Comment\n5. Communications\n6. Supervisor’s Mon
 thly Reports\n7. Town Clerk’s Monthly Report\n8. Minutes\n9. Budget Adju
 stments\n10. Reserve Fund Transfers\n11. Equipment Purchase Transfer\n12. 
 Abstract of Audited Vouchers\n13. Court Audit Acknowledgement\n14. Mower P
 urchase\n15. EV Connect EV Charge Solutions\n16. Buildings &amp\;amp\; Gro
 unds Trailer Purchase\n17. Website Privacy Statement\n18. Semmel Road Ball
  Field – Sod Purchase\n19. 15 Monroe Street – Tree Removal\n20. Tempor
 ary Signs – Discussion\n21. Public Comment\n22. Adjournment\n\nSupportin
 g Documents
CATEGORIES:Town Board Meeting
LOCATION:Mendon Town Hall\, 16 West Main Street\, Honeoye Falls\, New York\
 , 14472\, United States
X-APPLE-STRUCTURED-LOCATION;VALUE=URI;X-ADDRESS=16 West Main Street\, Honeo
 ye Falls\, New York\, 14472\, United States;X-APPLE-RADIUS=100;X-TITLE=Men
 don Town Hall:geo:0,0
END:VEVENT
BEGIN:VTIMEZONE
TZID:America/New_York
X-LIC-LOCATION:America/New_York
BEGIN:DAYLIGHT
DTSTART:20250309T030000
TZOFFSETFROM:-0500
TZOFFSETTO:-0400
TZNAME:EDT
END:DAYLIGHT
END:VTIMEZONE
END:VCALENDAR