BEGIN:VCALENDAR
VERSION:2.0
PRODID:-//wp-events-plugin.com//7.2.3.1//EN
TZID:America/New_York
X-WR-TIMEZONE:America/New_York
BEGIN:VEVENT
UID:579@townofmendonny.gov
DTSTART;TZID=America/New_York:20230213T190000
DTEND;TZID=America/New_York:20230213T200000
DTSTAMP:20230210T155045Z
URL:https://townofmendonny.gov/events/town-board-meeting-2/
SUMMARY:Town Board Meeting
DESCRIPTION:Town Board Agenda – Tentative\nMonday\, February 13\, 2023 
 – 7:00PM\n16 West Main Street\nHoneoye Falls\, NY \n REGULAR MEETING\n\
 n 	Call to Order\n 	Pledge of Allegiance\n 	Agenda\n 	Public Comment\n 	Co
 mmunications\n 	Supervisor’s Monthly Report\n 	Town Clerk's Monthly Repo
 rt\n 	Minutes\n 	Budget Transfers\n 	Abstract of Audited Vouchers\n 	Code 
 Enforcement Officer/Building Inspector Training\n 	Clerk\, Planning and Zo
 ning Training\n 	Computer Purchasing\n 	Establishing a Reserve Fund for th
 e A Fund\n 	Establishing a Reserve Fund for the B Fund\n 	Purchase Buildin
 gs and Grounds Vehicle\n 	Contract with LaBella for Hamlet Sidewalk Design
  Services\n 	Scrap- Mendon Highway Sign\n 	Sale of Pickup Truck #3 (2012) 
 to Auction\n 	Mendon Green- Credit Release #2\n 	Public Comment\n 	Adjourn
 ment\n\nInformational Packet
CATEGORIES:Town Board Meeting
LOCATION:Mendon Town Hall\, 16 West Main Street\, Honeoye Falls\, New York\
 , 14472\, United States
X-APPLE-STRUCTURED-LOCATION;VALUE=URI;X-ADDRESS=16 West Main Street\, Honeo
 ye Falls\, New York\, 14472\, United States;X-APPLE-RADIUS=100;X-TITLE=Men
 don Town Hall:geo:0,0
END:VEVENT
BEGIN:VTIMEZONE
TZID:America/New_York
X-LIC-LOCATION:America/New_York
BEGIN:STANDARD
DTSTART:20221106T010000
TZOFFSETFROM:-0400
TZOFFSETTO:-0500
TZNAME:EST
END:STANDARD
END:VTIMEZONE
END:VCALENDAR