BEGIN:VCALENDAR
VERSION:2.0
PRODID:-//wp-events-plugin.com//7.2.3.1//EN
TZID:America/New_York
X-WR-TIMEZONE:America/New_York
BEGIN:VEVENT
UID:1141@townofmendonny.gov
DTSTART;TZID=America/New_York:20250318T190000
DTEND;TZID=America/New_York:20250318T210000
DTSTAMP:20250317T214742Z
URL:https://townofmendonny.gov/events/town-board-meeting-19/
SUMMARY:Town Board Meeting
DESCRIPTION:TOWN OF MENDON\nTuesday\, March 18\, 2025 – 7:00 PM\nMendon T
 own Hall\n16 West Main Street\, Honeoye Falls\, NY\nSPECIAL MEETING\nPleas
 e be advised that a Special Town Board Meeting will occur on Tuesday\, Mar
 ch 18\, at 7:00 PM at Mendon Town Hall\, 16 West Main St.\, Honeoye Falls\
 , NY 14472.\n\nAgenda – Tentative\nSPECIAL MEETING\n\n1. Call to Order\n
 2. Pledge of Allegiance\n3. Agenda\n4. Public Comment\n5. Communications\n
 6. Resolution Appointing Records Management Officer\n7. Appointment to Tow
 n Board\n8. Public Comment\n9. Adjournment\n\nSupporting Documents
CATEGORIES:Town Board Meeting
LOCATION:Mendon Town Hall\, 16 West Main Street\, Honeoye Falls\, New York\
 , 14472\, United States
X-APPLE-STRUCTURED-LOCATION;VALUE=URI;X-ADDRESS=16 West Main Street\, Honeo
 ye Falls\, New York\, 14472\, United States;X-APPLE-RADIUS=100;X-TITLE=Men
 don Town Hall:geo:0,0
END:VEVENT
BEGIN:VTIMEZONE
TZID:America/New_York
X-LIC-LOCATION:America/New_York
BEGIN:DAYLIGHT
DTSTART:20250309T030000
TZOFFSETFROM:-0500
TZOFFSETTO:-0400
TZNAME:EDT
END:DAYLIGHT
END:VTIMEZONE
END:VCALENDAR