BEGIN:VCALENDAR
VERSION:2.0
PRODID:-//wp-events-plugin.com//7.2.3.1//EN
TZID:America/New_York
X-WR-TIMEZONE:America/New_York
BEGIN:VEVENT
UID:1140@townofmendonny.gov
DTSTART;TZID=America/New_York:20250210T190000
DTEND;TZID=America/New_York:20250210T210000
DTSTAMP:20250209T142719Z
URL:https://townofmendonny.gov/events/town-board-meeting-18/
SUMMARY:Town Board Meeting
DESCRIPTION:REGULAR MEETING\n\n1. Call to Order\n2. Pledge of Allegiance\n3
 . Agenda\n4. Public Comment\n5. Communications\n6. Supervisor’s Monthly 
 Report\n7. Town Clerk’s Monthly Report\n8. Minutes\n9. Budget Adjustment
 s 2024\n10. Budget Adjustments 2025\n11. Abstract of Audited Vouchers\n12.
  Engagement Agreement for Legal Services\n13. Finger Lakes Building Offici
 als Annual Educational Conference – Attendance Approval\n14. New York Pl
 anning Federation Annual Conference – Attendance Approval\n15. Advocacy 
 Day – Attendance Approval\n16. Annual School for Highway Superintendents
  – Attendance Approval\n17. Stoney Lonesome Road – Survey\n18. Amann R
 oad Stormwater Work – Bid Acceptance\n19. Environmental Conservation Boa
 rd – Appointment\n20. Board of Assessment Review – Appointment\n21. De
 puty Supervisor – Temporary Appointment\n22. COVID-19 Paid Leave\n23. Us
 e of Athletic Fields – Approval\n24. Grant of Easement – Sidewalks and
  Utilities\n25. Public Comment\n26. Adjournment\n\nFebruary 10\, 2025 Info
 rmation Packet\n\n&nbsp\;
CATEGORIES:Town Board Meeting
LOCATION:Mendon Town Hall\, 16 West Main Street\, Honeoye Falls\, New York\
 , 14472\, United States
X-APPLE-STRUCTURED-LOCATION;VALUE=URI;X-ADDRESS=16 West Main Street\, Honeo
 ye Falls\, New York\, 14472\, United States;X-APPLE-RADIUS=100;X-TITLE=Men
 don Town Hall:geo:0,0
END:VEVENT
BEGIN:VTIMEZONE
TZID:America/New_York
X-LIC-LOCATION:America/New_York
BEGIN:STANDARD
DTSTART:20241103T010000
TZOFFSETFROM:-0400
TZOFFSETTO:-0500
TZNAME:EST
END:STANDARD
END:VTIMEZONE
END:VCALENDAR