BEGIN:VCALENDAR
VERSION:2.0
PRODID:-//wp-events-plugin.com//7.2.3.1//EN
TZID:America/New_York
X-WR-TIMEZONE:America/New_York
BEGIN:VEVENT
UID:1138@townofmendonny.gov
DTSTART;TZID=America/New_York:20241209T190000
DTEND;TZID=America/New_York:20241209T210000
DTSTAMP:20241207T173722Z
URL:https://townofmendonny.gov/events/town-board-meeting-16/
SUMMARY:Town Board Meeting
DESCRIPTION:Town of Mendon\nTown Board Agenda - Tentative\nMonday\, Decembe
 r 9\, 2024 7:00pm\nMendon Town Hall\n16 W Main St Honeoye Falls\, NY\nRegu
 lar Meeting\n\n 	Call to Order\n 	Pledge of Allegiance\n 	Agenda\n 	Public
  Comment\n 	Communications\n 	Supervisor's Monthly Reports\n 	Town Clerk's
  Monthly Report\n 	Minutes\n 	Budget Adjustments\n 	Abstract of Audited Vo
 uchers\n 	Public Hearing - 2025 Preliminary Budget\n 	2025 Final Budget ad
 option\n 	Proposed Chapter 260 Zoning Amendment - Accessory Structures - P
 ublic Hearing\n 	Chapter 260 Zoning Amendment - Accessory Structures - Ado
 ption\n 	Capital Improvement Program - Establish a Public Hearing\n 	2025 
 Association of Towns annual training - attendance approval\n 	Hamlet Sidew
 alk Project - Agreement with Monroe County\n 	Holiday Schedule Policy\n 	E
 quipment purchase from DB Funding Exempting Village\n 	IT Policies - Updat
 e\n 	ECB Member Training Plan - Approval\n 	Library Fund - Approval transf
 er to reserves\n 	Executive Session - ongoing litigation\n 	Gascon Family 
 Vineyards LLC and David S Gascon v. Town of Mendon Town Board\n 	Public Co
 mment\n 	Adjournment\n\nDecember 9 - supporting documents\n\n&nbsp\;
CATEGORIES:Town Board Meeting
LOCATION:Mendon Town Hall\, 16 West Main Street\, Honeoye Falls\, New York\
 , 14472\, United States
X-APPLE-STRUCTURED-LOCATION;VALUE=URI;X-ADDRESS=16 West Main Street\, Honeo
 ye Falls\, New York\, 14472\, United States;X-APPLE-RADIUS=100;X-TITLE=Men
 don Town Hall:geo:0,0
END:VEVENT
BEGIN:VTIMEZONE
TZID:America/New_York
X-LIC-LOCATION:America/New_York
BEGIN:STANDARD
DTSTART:20241103T010000
TZOFFSETFROM:-0400
TZOFFSETTO:-0500
TZNAME:EST
END:STANDARD
END:VTIMEZONE
END:VCALENDAR