BEGIN:VCALENDAR
VERSION:2.0
PRODID:-//wp-events-plugin.com//7.2.3.1//EN
TZID:America/New_York
X-WR-TIMEZONE:America/New_York
BEGIN:VEVENT
UID:1136@townofmendonny.gov
DTSTART;TZID=America/New_York:20240909T190000
DTEND;TZID=America/New_York:20240909T210000
DTSTAMP:20240906T201003Z
URL:https://townofmendonny.gov/events/town-board-meeting-14/
SUMMARY:Town Board Meeting
DESCRIPTION:REGULAR MEETING\n\n 	Call to Order\n 	Pledge of Allegiance\n 	A
 genda\n 	Public Comment\n 	Communications\n 	Supervisor's Monthly Reports\
 n 	Town Clerk's Monthly Report\n 	Minutes\n 	Budget Adjustments\n 	Abstrac
 t of Audited Vouchers\n 	Town Board Meeting - Reschedule October Date\n 	T
 own Code Chapter 230 Taxation Amendments - Proposed Local Law - Establish 
 Public Hearing\n 	Town Code Amendments-Proposed Local Law on Smoke Shops- 
 Establish Public Hearing\n 	Planning/Zoning Board Secretary - Appointment\
 n 	2024 NYS Magistrates Association Annual Meeting -Attendance Approval\n 
 	Salt Barn Cleaning - Approval\n 	Limit Authority Regarding Disciplinary M
 easures to Employees\n 	Public Comment\n 	Executive Session- Personnel Mat
 ter\n 	Adjournment\n\nSeptember 9 Informational Packet
CATEGORIES:Town Board Meeting
LOCATION:Mendon Town Hall\, 16 West Main Street\, Honeoye Falls\, New York\
 , 14472\, United States
X-APPLE-STRUCTURED-LOCATION;VALUE=URI;X-ADDRESS=16 West Main Street\, Honeo
 ye Falls\, New York\, 14472\, United States;X-APPLE-RADIUS=100;X-TITLE=Men
 don Town Hall:geo:0,0
END:VEVENT
BEGIN:VTIMEZONE
TZID:America/New_York
X-LIC-LOCATION:America/New_York
BEGIN:DAYLIGHT
DTSTART:20240310T030000
TZOFFSETFROM:-0500
TZOFFSETTO:-0400
TZNAME:EDT
END:DAYLIGHT
END:VTIMEZONE
END:VCALENDAR