BEGIN:VCALENDAR
VERSION:2.0
PRODID:-//wp-events-plugin.com//7.2.3.1//EN
TZID:America/New_York
X-WR-TIMEZONE:America/New_York
BEGIN:VEVENT
UID:1134@townofmendonny.gov
DTSTART;TZID=America/New_York:20240715T190000
DTEND;TZID=America/New_York:20240715T200000
DTSTAMP:20240713T135845Z
URL:https://townofmendonny.gov/events/town-board-meeting-12/
SUMMARY:Town Board Meeting
DESCRIPTION:TOWN OF MENDON\nTown Board Agenda-Tentative \nMonday\, July 15\
 , 2024- 7:00PM \nMendon Town Hall\n16 West Main Street\, Honeoye Falls\, N
 Y \nREGULAR MEETING\n \n\n 	Call to Order\n 	Pledge of Allegiance\n 	Agen
 da\n 	Public Comment\n 	Communications\n 	Town Clerk's Monthly Report\n 	M
 inutes\n 	Budget Adjustments\n 	Abstract of Audited Vouchers\n 	Mendon Fir
 e District - Presentation\n 	Historic Preservation Commission - Appointmen
 t\n 	Retention Wall - Victor Mendon Road- Preparation and Receipt of Propo
 sals\n 	Driesbach Fields - Preparation and Receipt of Proposals\n 	Recycli
 ng Event\n 	Ambulance Building Parking Lot-Agreement with Village of Honeo
 ye Fa11s\n 	3913 Rush-Mendon Road -Authorization to Contract with Litigati
 on Attorney\n 	Town Code Chapter 230 Amendments - Proposed Local Law- Esta
 blish Public Hearing\n 	Public Comment\n 	Adjournment\n\nSuporting Documen
 ts
CATEGORIES:Town Board Meeting
LOCATION:Mendon Town Hall\, 16 West Main Street\, Honeoye Falls\, New York\
 , 14472\, United States
X-APPLE-STRUCTURED-LOCATION;VALUE=URI;X-ADDRESS=16 West Main Street\, Honeo
 ye Falls\, New York\, 14472\, United States;X-APPLE-RADIUS=100;X-TITLE=Men
 don Town Hall:geo:0,0
END:VEVENT
BEGIN:VTIMEZONE
TZID:America/New_York
X-LIC-LOCATION:America/New_York
BEGIN:DAYLIGHT
DTSTART:20240310T030000
TZOFFSETFROM:-0500
TZOFFSETTO:-0400
TZNAME:EDT
END:DAYLIGHT
END:VTIMEZONE
END:VCALENDAR