BEGIN:VCALENDAR
VERSION:2.0
PRODID:-//wp-events-plugin.com//7.2.3.1//EN
TZID:America/New_York
X-WR-TIMEZONE:America/New_York
BEGIN:VEVENT
UID:1133@townofmendonny.gov
DTSTART;TZID=America/New_York:20240513T190000
DTEND;TZID=America/New_York:20240513T200000
DTSTAMP:20240510T171124Z
URL:https://townofmendonny.gov/events/town-board-meeting-11/
SUMMARY:Town Board Meeting
DESCRIPTION:REGULAR MEETING\n Agenda items\n\n\n 	Call to Order\n 	Pledge 
 of Allegiance\n 	Agenda\n 	Public Comment\n 	Communications\n 	Supervisor'
 s Monthly Reports\n 	Town Clerk's Monthly Report\n 	Minutes\n 	Budget Adju
 stments\n 	Abstract of Audited Vouchers\n 	Public Hearing - Smoke Shops Mo
 ratorium - Proposed Local Law\n 	Local Law _-2024-A Temporary Moratorium R
 elative to Smoke Shops\n 	Hamlet Sidewalk Project\n 	Town Code Chapter 241
  -Amendment- Establish Public Hearing\n 	Fee Schedule - Amendment\n 	Perso
 nnel Policy -Amendment\n 	Parcels 03-1-7.2/NROW and 215.03-1-7.2/SROW -Dee
 d to Adjacent Property Owners\n 	424 Cheese Factory Road- Property Mainten
 ance\n 	Ridings of Mendon - Letter of Credit Release\n 	Use of Athletic Fi
 elds - Dave Lochner Memorial Softball League\n 	Planning Board Meeting Sch
 edule - Adjustment\n 	Public Comment\n 	Adjournment\n\nInformation Packet
CATEGORIES:Town Board Meeting
LOCATION:Mendon Town Hall\, 16 West Main Street\, Honeoye Falls\, New York\
 , 14472\, United States
X-APPLE-STRUCTURED-LOCATION;VALUE=URI;X-ADDRESS=16 West Main Street\, Honeo
 ye Falls\, New York\, 14472\, United States;X-APPLE-RADIUS=100;X-TITLE=Men
 don Town Hall:geo:0,0
END:VEVENT
BEGIN:VTIMEZONE
TZID:America/New_York
X-LIC-LOCATION:America/New_York
BEGIN:DAYLIGHT
DTSTART:20240310T030000
TZOFFSETFROM:-0500
TZOFFSETTO:-0400
TZNAME:EDT
END:DAYLIGHT
END:VTIMEZONE
END:VCALENDAR