BEGIN:VCALENDAR
VERSION:2.0
PRODID:-//wp-events-plugin.com//7.2.3.1//EN
TZID:America/New_York
X-WR-TIMEZONE:America/New_York
BEGIN:VEVENT
UID:33@townofmendonny.gov
DTSTART;TZID=America/New_York:20220711T190000
DTEND;TZID=America/New_York:20220711T210000
DTSTAMP:20220708T144523Z
URL:https://townofmendonny.gov/events/town-board-july-11-2022/
SUMMARY:Town Board - July 11\, 2022
DESCRIPTION:REGULAR MEETING\n1. Call to Order\n2. Pledge of Allegiance\n3. 
 Agenda\n4. Public Comment\n5. Communications\n6. Supervisor's Monthly Repo
 rt\n7. Town Clerk's Monthly Report\n8. Minutes\n9. Budget Transfers/Adjust
 ments\n10. Abstract of Audited Vouchers\n11. Declaration of Scrap-Youth Ce
 nter\n12. Declaration of Scrap- Highway Dept.\n13. Public Comment\n14. Adj
 ournment\nTown Board Meeting - July 11\, 2022 - Information Packet - Elect
 ronic copy
CATEGORIES:Town Board Meeting
LOCATION:Mendon Community Center\, 167 North Main St\, Honeoye Falls\, New 
 York\, 14472\, United States
X-APPLE-STRUCTURED-LOCATION;VALUE=URI;X-ADDRESS=167 North Main St\, Honeoye
  Falls\, New York\, 14472\, United States;X-APPLE-RADIUS=100;X-TITLE=Mendo
 n Community Center:geo:0,0
END:VEVENT
BEGIN:VTIMEZONE
TZID:America/New_York
X-LIC-LOCATION:America/New_York
BEGIN:DAYLIGHT
DTSTART:20220313T030000
TZOFFSETFROM:-0500
TZOFFSETTO:-0400
TZNAME:EDT
END:DAYLIGHT
END:VTIMEZONE
END:VCALENDAR