BEGIN:VCALENDAR
VERSION:2.0
PRODID:-//wp-events-plugin.com//7.2.3.1//EN
TZID:America/New_York
X-WR-TIMEZONE:America/New_York
BEGIN:VEVENT
UID:34@townofmendonny.gov
DTSTART;TZID=America/New_York:20220815T190000
DTEND;TZID=America/New_York:20220815T210000
DTSTAMP:20220810T131540Z
URL:https://townofmendonny.gov/events/town-board-august-8-2022/
SUMMARY:Town Board - August 8\, 2022 - RESCHEDULED to 8/15/22
DESCRIPTION:**RESCHEDULED TO AUGUST 15\, 2022**\n&nbsp\;\n\nREGULAR MEETING
 \n\n1. Call to Order\n2. Pledge of Allegiance\n3. Agenda\n4. Public Commen
 t\n5. Communications\n6. Supervisor’s Monthly Report\n7. Town Clerk's Mo
 nthly Report\n8. Minutes\n9. Budget Transfers/Adjustments\n10. Abstract of
  Audited Vouchers\n11. NYCLASS- Liquid Asset Securities\n12. ESP Consultin
 g- Grant Services\n13. Mendon Youth Center- Reopening\n14. Mendon Spray Pa
 rk and Military Memorial- Special Testing\n15. Semmel Road Farming Lease\n
 16. Public Comment\n17. Adjournment\n\nAugust 15\, 2022 - Informational pa
 cket
CATEGORIES:Town Board Meeting
LOCATION:Mendon Community Center\, 167 North Main St\, Honeoye Falls\, New 
 York\, 14472\, United States
X-APPLE-STRUCTURED-LOCATION;VALUE=URI;X-ADDRESS=167 North Main St\, Honeoye
  Falls\, New York\, 14472\, United States;X-APPLE-RADIUS=100;X-TITLE=Mendo
 n Community Center:geo:0,0
END:VEVENT
BEGIN:VTIMEZONE
TZID:America/New_York
X-LIC-LOCATION:America/New_York
BEGIN:DAYLIGHT
DTSTART:20220313T030000
TZOFFSETFROM:-0500
TZOFFSETTO:-0400
TZNAME:EDT
END:DAYLIGHT
END:VTIMEZONE
END:VCALENDAR