BEGIN:VCALENDAR
VERSION:2.0
PRODID:-//wp-events-plugin.com//7.2.3.1//EN
TZID:America/New_York
X-WR-TIMEZONE:America/New_York
BEGIN:VEVENT
UID:598@townofmendonny.gov
DTSTART;TZID=America/New_York:20230424T190000
DTEND;TZID=America/New_York:20230424T200000
DTSTAMP:20230420T180550Z
URL:https://townofmendonny.gov/events/special-town-board-meeting-2/
SUMMARY:Special Town Board Meeting
DESCRIPTION:SPECIAL TOWN BOARD MEETING\nAgenda \n\n\n 	Call to Order\n 	Pl
 edge of Allegiance\n 	Agenda\n 	Public Comment\n 	Public Hearing- Local La
 w #1 2023 Short Term Rental\n 	Public Hearing- Local Law #2 2023 Bed and B
 reakfast Establishments\n 	Public Comment\n 	Adjournment\n\nMendon Town Bo
 ard - April 24\, 2023 - Electronic copy
CATEGORIES:Town Board Meeting
LOCATION:Mendon Community Center\, 167 North Main St\, Honeoye Falls\, New 
 York\, 14472\, United States
X-APPLE-STRUCTURED-LOCATION;VALUE=URI;X-ADDRESS=167 North Main St\, Honeoye
  Falls\, New York\, 14472\, United States;X-APPLE-RADIUS=100;X-TITLE=Mendo
 n Community Center:geo:0,0
END:VEVENT
BEGIN:VTIMEZONE
TZID:America/New_York
X-LIC-LOCATION:America/New_York
BEGIN:DAYLIGHT
DTSTART:20230312T030000
TZOFFSETFROM:-0500
TZOFFSETTO:-0400
TZNAME:EDT
END:DAYLIGHT
END:VTIMEZONE
END:VCALENDAR