BEGIN:VCALENDAR
VERSION:2.0
PRODID:-//wp-events-plugin.com//7.2.3.1//EN
TZID:America/New_York
X-WR-TIMEZONE:America/New_York
BEGIN:VEVENT
UID:574@townofmendonny.gov
DTSTART;TZID=America/New_York;VALUE=DATE:20230221
DTEND;TZID=America/New_York;VALUE=DATE:20230222
DTSTAMP:20230130T153543Z
URL:https://townofmendonny.gov/events/senior-citizens-pancake-breakfast-tr
 ip/
SUMMARY:Senior Citizens - Pancake Breakfast Trip
DESCRIPTION:The Senior's will be heading to Cartwright's Maple Tree Inn in 
 Angelica\, NY via school bus.\n\n****Prior to February 14\, Nancy at 585-4
 65-9490 must have count to secure the bus.****
END:VEVENT
BEGIN:VTIMEZONE
TZID:America/New_York
X-LIC-LOCATION:America/New_York
BEGIN:STANDARD
DTSTART:20221106T010000
TZOFFSETFROM:-0400
TZOFFSETTO:-0500
TZNAME:EST
END:STANDARD
END:VTIMEZONE
END:VCALENDAR