BEGIN:VCALENDAR
VERSION:2.0
PRODID:-//wp-events-plugin.com//7.2.3.1//EN
TZID:America/New_York
X-WR-TIMEZONE:America/New_York
BEGIN:VEVENT
UID:1127@townofmendonny.gov
DTSTART;TZID=America/New_York:20240312T120000
DTEND;TZID=America/New_York:20240312T140000
DTSTAMP:20240227T154045Z
URL:https://townofmendonny.gov/events/senior-citizens-business-meeting/
SUMMARY:Senior Citizens - Business Meeting
DESCRIPTION:\n 	 Discussion:  April 9 Business Meeting - Chinese Lunch fo
 r members. More details to follow in postcard/email note to be sent later
  this week.\n 	Guest Seaker: Dan Lyon from Lifespan to speak about Scam
 s.\n
LOCATION:Mendon Community Center\, 167 North Main St\, Honeoye Falls\, New 
 York\, 14472\, United States
X-APPLE-STRUCTURED-LOCATION;VALUE=URI;X-ADDRESS=167 North Main St\, Honeoye
  Falls\, New York\, 14472\, United States;X-APPLE-RADIUS=100;X-TITLE=Mendo
 n Community Center:geo:0,0
END:VEVENT
BEGIN:VTIMEZONE
TZID:America/New_York
X-LIC-LOCATION:America/New_York
BEGIN:DAYLIGHT
DTSTART:20240310T030000
TZOFFSETFROM:-0500
TZOFFSETTO:-0400
TZNAME:EDT
END:DAYLIGHT
END:VTIMEZONE
END:VCALENDAR