BEGIN:VCALENDAR
VERSION:2.0
PRODID:-//wp-events-plugin.com//7.2.3.1//EN
TZID:America/New_York
X-WR-TIMEZONE:America/New_York
BEGIN:VEVENT
UID:573@townofmendonny.gov
DTSTART;TZID=America/New_York:20230214T120000
DTEND;TZID=America/New_York:20230214T140000
DTSTAMP:20230130T150944Z
URL:https://townofmendonny.gov/events/senior-citizen-meeting-business-meet
 ing/
SUMMARY:Senior Citizen Meeting - Business Meeting
DESCRIPTION:There will be a celebration of first 6 months of birthdays and 
 Tamara from Bus America Tours is guest speaker sharing past trips in late 
 2022 and upcoming trips through August.
LOCATION:Mendon Community Center\, 167 North Main St\, Honeoye Falls\, New 
 York\, 14472\, United States
X-APPLE-STRUCTURED-LOCATION;VALUE=URI;X-ADDRESS=167 North Main St\, Honeoye
  Falls\, New York\, 14472\, United States;X-APPLE-RADIUS=100;X-TITLE=Mendo
 n Community Center:geo:0,0
END:VEVENT
BEGIN:VTIMEZONE
TZID:America/New_York
X-LIC-LOCATION:America/New_York
BEGIN:STANDARD
DTSTART:20221106T010000
TZOFFSETFROM:-0400
TZOFFSETTO:-0500
TZNAME:EST
END:STANDARD
END:VTIMEZONE
END:VCALENDAR