BEGIN:VCALENDAR
VERSION:2.0
PRODID:-//wp-events-plugin.com//7.2.3.1//EN
TZID:America/New_York
X-WR-TIMEZONE:America/New_York
BEGIN:VEVENT
UID:128@townofmendonny.gov
DTSTART;TZID=America/New_York:20230419T190000
DTEND;TZID=America/New_York:20230419T210000
DTSTAMP:20230410T195643Z
URL:https://townofmendonny.gov/events/planning-board-meeting-7/
SUMMARY:Planning Board Meeting
DESCRIPTION:Approve Minutes from April 5\, 2023 meeting\n\nMcDERMOTT SITE P
 LAN\nMark and Karen McDermott\, 20 Fall Meadow Drive\, Pittsford NY\, for 
 site plan approval on a 2\,800+/-\nsquare foot single-family residence wit
 h a farm pond on Pond Road\, consisting of 40 acres. Tax account\nno. 204.
 04-1-40.4. Zoned RA-5.\n\nCANFIELD VET SPECIAL USE PERMIT AMENDMENT PUBLIC
  HEARING\nMargaret Brooker\, DVM of Canfield Veterinary\, 122 Canfield Roa
 d\, Pittsford\, NY\, for an amendment to\nthe existing Special Use Permit 
 to add one more veterinary doctor and three more support staff\, consistin
 g\nof 6.55 acres. Tax account no. 192.03-1-5.2. Zoned RA-5.\n\nPublic Comm
 ent\nGeneral Discussion\nUpcoming Meeting Info:\nMay 3 – No agenda items
 \nMay 17 – Canceled\n\nPlease refer to TownofMendon.org for information 
 to attend the meeting via Zoom or to watch it on\nYouTube.
CATEGORIES:Planning Board Meeting
LOCATION:Mendon Town Hall\, 16 West Main Street\, Honeoye Falls\, New York\
 , 14472\, United States
X-APPLE-STRUCTURED-LOCATION;VALUE=URI;X-ADDRESS=16 West Main Street\, Honeo
 ye Falls\, New York\, 14472\, United States;X-APPLE-RADIUS=100;X-TITLE=Men
 don Town Hall:geo:0,0
END:VEVENT
BEGIN:VTIMEZONE
TZID:America/New_York
X-LIC-LOCATION:America/New_York
BEGIN:DAYLIGHT
DTSTART:20230312T030000
TZOFFSETFROM:-0500
TZOFFSETTO:-0400
TZNAME:EDT
END:DAYLIGHT
END:VTIMEZONE
END:VCALENDAR