BEGIN:VCALENDAR
VERSION:2.0
PRODID:-//wp-events-plugin.com//7.2.3.1//EN
TZID:America/New_York
X-WR-TIMEZONE:America/New_York
BEGIN:VEVENT
UID:127@townofmendonny.gov
DTSTART;TZID=America/New_York:20230315T190000
DTEND;TZID=America/New_York:20230315T210000
DTSTAMP:20230302T175935Z
URL:https://townofmendonny.gov/events/planning-board-meeting-6/
SUMMARY:Planning Board Meeting
DESCRIPTION:PLANNING BOARD AGENDA\nFOR WEDNESDAY\, MARCH 15\, 2023\nMENDON 
 TOWN HALL\n16 WEST MAIN STREET\nHoneoye Falls\, NY 7:00 P.M.\n\nApprove Mi
 nutes from March 1\, 2023 Planning Board Meeting\n\nANDERSON SITE PLAN\nJa
 mes and Kristen Anderson\, 567 6th Street\, Apartment 16\, Brooklyn NY\, 1
 1215\, for construction of a +/-\n2\,000 square-foot single-family home wi
 th attached three-car garage as well as a +/-1\,440 square-foot\npole barn
  on property located on West Bloomfield Road\, Honeoye Falls in the Town o
 f Mendon\, Zoned\nRA-5. Tax account no. 223.01-1-47.2\, consisting of 45.7
 8 acres.\n\nPublic Comment\nGeneral Discussion\nUpcoming Meeting Info
CATEGORIES:Planning Board Meeting
LOCATION:Mendon Town Hall\, 16 West Main Street\, Honeoye Falls\, New York\
 , 14472\, United States
X-APPLE-STRUCTURED-LOCATION;VALUE=URI;X-ADDRESS=16 West Main Street\, Honeo
 ye Falls\, New York\, 14472\, United States;X-APPLE-RADIUS=100;X-TITLE=Men
 don Town Hall:geo:0,0
END:VEVENT
BEGIN:VTIMEZONE
TZID:America/New_York
X-LIC-LOCATION:America/New_York
BEGIN:DAYLIGHT
DTSTART:20230312T030000
TZOFFSETFROM:-0500
TZOFFSETTO:-0400
TZNAME:EDT
END:DAYLIGHT
END:VTIMEZONE
END:VCALENDAR