BEGIN:VCALENDAR
VERSION:2.0
PRODID:-//wp-events-plugin.com//7.2.3.1//EN
TZID:America/New_York
X-WR-TIMEZONE:America/New_York
BEGIN:VEVENT
UID:126@townofmendonny.gov
DTSTART;TZID=America/New_York:20230301T190000
DTEND;TZID=America/New_York:20230301T210000
DTSTAMP:20230216T133146Z
URL:https://townofmendonny.gov/events/planning-board-meeting-5/
SUMMARY:Planning Board Meeting
DESCRIPTION:HAMPSON SITE PLAN\nKenneth Hampson\, 38 Saginaw Drive\, Rochest
 er\, NY 14623\, for construction of a 4-bedroom signal-\nfamily home with 
 a barn on property located on Harloff Road\, Honeoye Falls\, in the Town o
 f Mendon\,\nZoned RA-1. Tax account no. 224.01-1-3.3\, consisting of 10 ac
 res.\n\nANDERSON SITE PLAN\nJames and Kristen Anderson\, 567 6th Street\, 
 Apartment 16\, Brooklyn NY\, 11215\, for construction of a +/-\n2\,000 squ
 are-foot single-family home with attached three-car garage as well as a +/
 -1\,440 square-foot\npole barn on property located on West Bloomfield Road
 \, Honeoye Falls in the Town of Mendon\, Zoned\nRA-5. Tax account no. 223.
 01-1-47.2\, consisting of 45.78 acres.\n\nPublic Comment\nGeneral Discussi
 on\nUpcoming Meeting Info\n\nPlease refer to TownofMendon.org for informat
 ion to attend the meeting via Zoom or to watch it on\nYouTube.
CATEGORIES:Planning Board Meeting
LOCATION:Mendon Town Hall\, 16 West Main Street\, Honeoye Falls\, New York\
 , 14472\, United States
X-APPLE-STRUCTURED-LOCATION;VALUE=URI;X-ADDRESS=16 West Main Street\, Honeo
 ye Falls\, New York\, 14472\, United States;X-APPLE-RADIUS=100;X-TITLE=Men
 don Town Hall:geo:0,0
END:VEVENT
BEGIN:VTIMEZONE
TZID:America/New_York
X-LIC-LOCATION:America/New_York
BEGIN:STANDARD
DTSTART:20221106T010000
TZOFFSETFROM:-0400
TZOFFSETTO:-0500
TZNAME:EST
END:STANDARD
END:VTIMEZONE
END:VCALENDAR