BEGIN:VCALENDAR
VERSION:2.0
PRODID:-//wp-events-plugin.com//7.2.3.1//EN
TZID:America/New_York
X-WR-TIMEZONE:America/New_York
BEGIN:VEVENT
UID:1243@townofmendonny.gov
DTSTART;TZID=America/New_York:20260520T190000
DTEND;TZID=America/New_York:20260520T210000
DTSTAMP:20260422T150906Z
URL:https://townofmendonny.gov/events/planning-board-meeting-45/
SUMMARY:Planning Board Meeting
DESCRIPTION:PLANNING BOARD AGENDA\nFOR WEDNESDAY\, MAY 20 TH \, 2026\nMENDO
 N TOWN HALL\n16 WEST MAIN STREET\nHONEOYE FALLS\, NY\n7:00 P.M.\nApprove M
 inutes from the March 18 th \, 2026 Planning Board Meeting.\n\nPAT’S PIG
 S SPECIAL USE PERMIT AMENDMENT\nPatrick Roach\, 17 Cambridge Court\, Fairp
 ort NY\, for an amendment to an existing Special Use\nPermit\, Pat’s Pig
 s Barbeque &amp\;amp\; Catering\, on property located at 5 Assembly Drive\
 , Mendon\, NY.\nTax account no. 216.02-1-1.3. Zoned Business.\n\nPUBLIC HE
 ARING\n\nGENERAL DISCUSSION\n\nUPCOMING MEETING INFO:\nJune 3 rd \, 2026 
 – Cancelled unless rehearing is necessary.\n\nPUBLIC COMMENT\n\nPlease r
 efer to TownofMendonny.gov for information to attend the meeting via Zoom 
 or to\nwatch it on YouTube.
CATEGORIES:Planning Board Meeting
LOCATION:Mendon Town Hall\, 16 West Main Street\, Honeoye Falls\, New York\
 , 14472\, United States
X-APPLE-STRUCTURED-LOCATION;VALUE=URI;X-ADDRESS=16 West Main Street\, Honeo
 ye Falls\, New York\, 14472\, United States;X-APPLE-RADIUS=100;X-TITLE=Men
 don Town Hall:geo:0,0
END:VEVENT
BEGIN:VTIMEZONE
TZID:America/New_York
X-LIC-LOCATION:America/New_York
BEGIN:DAYLIGHT
DTSTART:20260308T030000
TZOFFSETFROM:-0500
TZOFFSETTO:-0400
TZNAME:EDT
END:DAYLIGHT
END:VTIMEZONE
END:VCALENDAR