BEGIN:VCALENDAR
VERSION:2.0
PRODID:-//wp-events-plugin.com//7.2.3.1//EN
TZID:America/New_York
X-WR-TIMEZONE:America/New_York
BEGIN:VEVENT
UID:1207@townofmendonny.gov
DTSTART;TZID=America/New_York:20260107T190000
DTEND;TZID=America/New_York:20260107T210000
DTSTAMP:20251219T160040Z
URL:https://townofmendonny.gov/events/planning-board-meeting-40/
SUMMARY:Planning Board Meeting
DESCRIPTION:PLANNING BOARD AGENDA\nFOR WEDNESDAY\, JANUARY 7 TH \, 2025\nME
 NDON TOWN HALL\n16 WEST MAIN STREET\nHONEOYE FALLS\, NY\n7:00 P.M.\nApprov
 e Minutes from the December 17 th \, 2025 Planning Board Meeting\n\nO’HA
 RA 2 – LOT SUBDIVISION &amp\; SITE PLAN\nKevin O’Hara\, 54 Ransford Av
 e\, Rochester\, NY\, for a 2 - lot subdivision and site plan on property l
 ocated on 1495 West Bloomfield Road\, Honeoye Falls\, NY\, consisting of 1
 0.37 acres.\nTax account no. 223.03-1-44. Zoned RA-5.\n\nPUBLIC HEARING\nL
 eft open from 11/19\n\nGeneral Discussion\n\nUpcoming Meeting Info:\nJanua
 ry 21 st\, 2026 – AT&amp\;T Cell Tower Site Plan &amp\; Special Use Perm
 it Amendment.\n\nPlease refer to TownofMendonny.gov for information on att
 ending the meeting via Zoom or to watch it on YouTube.
CATEGORIES:Planning Board Meeting
LOCATION:Mendon Town Hall\, 16 West Main Street\, Honeoye Falls\, New York\
 , 14472\, United States
X-APPLE-STRUCTURED-LOCATION;VALUE=URI;X-ADDRESS=16 West Main Street\, Honeo
 ye Falls\, New York\, 14472\, United States;X-APPLE-RADIUS=100;X-TITLE=Men
 don Town Hall:geo:0,0
END:VEVENT
BEGIN:VTIMEZONE
TZID:America/New_York
X-LIC-LOCATION:America/New_York
BEGIN:STANDARD
DTSTART:20251102T010000
TZOFFSETFROM:-0400
TZOFFSETTO:-0500
TZNAME:EST
END:STANDARD
END:VTIMEZONE
END:VCALENDAR