BEGIN:VCALENDAR
VERSION:2.0
PRODID:-//wp-events-plugin.com//7.2.3.1//EN
TZID:America/New_York
X-WR-TIMEZONE:America/New_York
BEGIN:VEVENT
UID:1201@townofmendonny.gov
DTSTART;TZID=America/New_York:20251119T190000
DTEND;TZID=America/New_York:20251119T210000
DTSTAMP:20251119T163259Z
URL:https://townofmendonny.gov/events/planning-board-meeting-38/
SUMMARY:Planning Board Meeting
DESCRIPTION:PLANNING BOARD AGENDA\nFOR WEDNESDAY\, NOVEMBER 19TH\, 2025\nME
 NDON TOWN HALL\n16 WEST MAIN STREET\nHONEOYE FALLS\, NY\n7:00 P.M.\nApprov
 e Minutes from the October 15th \, 2025 Planning Board Meeting \n\nO’HA
 RA 2 – LOT SUBDIVISION &amp\; SITE PLAN\n\nKevin O’Hara\, 54 Ransford 
 Ave\, Rochester\, NY\, for a 2 - lot subdivision and site plan on property
  located on 1495 West Bloomfield Road\, Honeoye Falls\, NY\, consisting of
  10.37 acres.  Tax account no. 223.03-1-44. Zoned RA-5.\n\nPUBLIC HEARING
  \n\nGeneral Discussion\n\nUpcoming Meeting Info:\n\nDecember 3rd\, 2025 
 – Cancelled unless rehearing is necessary \n\nPlease refer to TownofMen
 donny.gov for information to attend the meeting via Zoom or to watch it on
  YouTube. \n\n&nbsp\;
CATEGORIES:Planning Board Meeting
LOCATION:Mendon Town Hall\, 16 West Main Street\, Honeoye Falls\, New York\
 , 14472\, United States
X-APPLE-STRUCTURED-LOCATION;VALUE=URI;X-ADDRESS=16 West Main Street\, Honeo
 ye Falls\, New York\, 14472\, United States;X-APPLE-RADIUS=100;X-TITLE=Men
 don Town Hall:geo:0,0
END:VEVENT
BEGIN:VTIMEZONE
TZID:America/New_York
X-LIC-LOCATION:America/New_York
BEGIN:STANDARD
DTSTART:20251102T010000
TZOFFSETFROM:-0400
TZOFFSETTO:-0500
TZNAME:EST
END:STANDARD
END:VTIMEZONE
END:VCALENDAR