BEGIN:VCALENDAR
VERSION:2.0
PRODID:-//wp-events-plugin.com//7.2.3.1//EN
TZID:America/New_York
X-WR-TIMEZONE:America/New_York
BEGIN:VEVENT
UID:1183@townofmendonny.gov
DTSTART;TZID=America/New_York:20250903T190000
DTEND;TZID=America/New_York:20250903T210000
DTSTAMP:20250829T135455Z
URL:https://townofmendonny.gov/events/planning-board-meeting-34/
SUMMARY:Planning Board Meeting
DESCRIPTION:PLANNING BOARD AGENDA\nFOR WEDNESDAY\, SEPTEMBER 3\, 2025\nMEND
 ON TOWN HALL\n16 WEST MAIN STREET\nHONEOYE FALLS\, NY 7:00 P.M.\n\nApprove
  Minutes from the August 6\, 2025 Planning Board Meeting\n\nCROSBY’S SIT
 E PLAN\nChris McCaffery\, 1771 Oakhurst St\, Lockport\, NY\, for site plan
  approval on the property located at\n1391 Pittsford Mendon Road\, Mendon\
 , NY\, consisting of .48 acres. Tax account no. 216.02-1-\n7.1. Zoned Busi
 ness.\n\nOSOVSKI 2-LOT SUBDIVISION\nDoug Osovski\, 3020 Rush Mendon Road\,
  Honeoye Falls\, NY\, for one 2.5-acre lot subdivision on\nproperty locate
 d on 4287 Clover Street\, Honeoye Falls\, NY\, consisting of 70.912 acres.
  Tax\naccount no. 215.03-1-2.121. Zoned RA-1.\n\nGeneral Discussion\n\nUpc
 oming Meeting Info:\n\nSeptember 17 @ 6PM\n\nPlease refer to TownofMendon.
 org for information to attend the meeting via Zoom or to watch it\non YouT
 ube.\n\n&nbsp\;
CATEGORIES:Planning Board Meeting
LOCATION:Mendon Town Hall\, 16 West Main Street\, Honeoye Falls\, New York\
 , 14472\, United States
X-APPLE-STRUCTURED-LOCATION;VALUE=URI;X-ADDRESS=16 West Main Street\, Honeo
 ye Falls\, New York\, 14472\, United States;X-APPLE-RADIUS=100;X-TITLE=Men
 don Town Hall:geo:0,0
END:VEVENT
BEGIN:VTIMEZONE
TZID:America/New_York
X-LIC-LOCATION:America/New_York
BEGIN:DAYLIGHT
DTSTART:20250309T030000
TZOFFSETFROM:-0500
TZOFFSETTO:-0400
TZNAME:EDT
END:DAYLIGHT
END:VTIMEZONE
END:VCALENDAR